BEGIN:VCALENDAR
VERSION:2.0
PRODID:-//Octubre Centre de Cultura Contemporània - ECPv5.1.6//NONSGML v1.0//EN
CALSCALE:GREGORIAN
METHOD:PUBLISH
X-WR-CALNAME:Octubre Centre de Cultura Contemporània
X-ORIGINAL-URL:https://octubre.cat
X-WR-CALDESC:Events for Octubre Centre de Cultura Contemporània
BEGIN:VTIMEZONE
TZID:Europe/Andorra
BEGIN:DAYLIGHT
TZOFFSETFROM:+0100
TZOFFSETTO:+0200
TZNAME:CEST
DTSTART:20180325T010000
END:DAYLIGHT
BEGIN:STANDARD
TZOFFSETFROM:+0200
TZOFFSETTO:+0100
TZNAME:CET
DTSTART:20181028T010000
END:STANDARD
END:VTIMEZONE
BEGIN:VEVENT
DTSTART;TZID=Europe/Andorra:20181219T200000
DTEND;TZID=Europe/Andorra:20181219T200000
DTSTAMP:20260421T090506
CREATED:20200729T173220Z
LAST-MODIFIED:20200729T191010Z
UID:11325-1545249600-1545249600@octubre.cat
SUMMARY:Presentació del llibre "Històries naturals"\, de Martí Domínguez
DESCRIPTION:Dimecres 19 de desembre a les 20.00h. Amb l’autor i el seu il·lustrador Perico Pastor. Una activitat de l’Espai Ciència. Entrada lliure.	 \n  \n  \n\n 	 La mirada naturalista de Martí Domínguez il·lustrada per Perico Pastor.  En aquest llibre\, ocells\, plantes\, papallones\, peixos i rèptils s’entremesclen amb els grans noms de l’art i la literatura\, com Leonardo da Vinci\, Cézanne\, Marcel Proust o Montaigne. Així són aquestes Històries naturals del novel·lista\, biòleg i periodista Martí Domínguez\, bellament il·lustrades per Perico Pastor. El lector veurà com aspectes extraordinaris de la natura s’enllacen de manera íntima amb la vida d’homes i dones i amb la cultura de tots els temps. Històries naturals és un llibre per gaudir\, per fullejar\, per consultar\, per regalar i per descobrir la nostra relació amb aspectes sovint ocults del món natural.  (Editorial Pòrtic)
URL:https://octubre.cat/activitat/presentacio-del-llibre-histories-naturals-de-marti-dominguez/
LOCATION:Sala d’actes
CATEGORIES:Literatura
ATTACH;FMTTYPE=image/jpeg:https://octubre.cat/www/wp-content/uploads/2020/07/activitat3166.jpg
END:VEVENT
END:VCALENDAR