BEGIN:VCALENDAR
VERSION:2.0
PRODID:-//Octubre Centre de Cultura Contemporània - ECPv5.1.6//NONSGML v1.0//EN
CALSCALE:GREGORIAN
METHOD:PUBLISH
X-WR-CALNAME:Octubre Centre de Cultura Contemporània
X-ORIGINAL-URL:https://octubre.cat
X-WR-CALDESC:Events for Octubre Centre de Cultura Contemporània
BEGIN:VTIMEZONE
TZID:Europe/Andorra
BEGIN:DAYLIGHT
TZOFFSETFROM:+0100
TZOFFSETTO:+0200
TZNAME:CEST
DTSTART:20220327T010000
END:DAYLIGHT
BEGIN:STANDARD
TZOFFSETFROM:+0200
TZOFFSETTO:+0100
TZNAME:CET
DTSTART:20221030T010000
END:STANDARD
END:VTIMEZONE
BEGIN:VEVENT
DTSTART;TZID=Europe/Andorra:20221103T190000
DTEND;TZID=Europe/Andorra:20221103T190000
DTSTAMP:20260420T204102
CREATED:20221019T154203Z
LAST-MODIFIED:20250625T093758Z
UID:18901-1667502000-1667502000@octubre.cat
SUMMARY:Presentació del llibre Històries de lluna vella\, de Josep Colomer
DESCRIPTION:Amb l’autor acompanyat per l’escriptora Lourdes Toledo \nBenià és un poble costaner de terres de secà on la lluna marca el ritme de la vida. Els seus habitants\, gent prudent i arrelada als costums\, sempre la miren a l’hora de sembrar el favar o de trascolar el vi\, quan han de comprar una nevera o abans de començar un festeig o de fer testament. La lluna vella és garantia de bona collita o esperança de vi ben equilibrat\, saborós i cristal·lí. Abans d’iniciar cap peripècia\, els benianers se n’asseguren el resultat amb el seu influx benèvol i\, si cal\, també encenen llums a les animetes dels difunts i s’encomanen a tots els sants. El pleniluni\, per contra\, és dissortat\, inquietant. Cal defugir sempre que es puga la llum pàl·lida de la lluna\, el sol de migdia i el vent de mestral. \nDesprés de la bona rebuda de Les espines del peix (Premi Octubre Andròmina de Narrativa 2019)\, Josep Colomer retorna a l’univers literari de Benià per acostar-nos a uns relats que sovint prenen forma de rondalla i que conjuguen ironia i sentit de l’humor amb una gran capacitat expressiva i una enorme riquesa lèxica. \n  \n \n(Tres i Quatre)
URL:https://octubre.cat/activitat/presentacio-del-llibre-histories-de-lluna-vella-de-josep-colomer/
LOCATION:Llibreria Fan Set
CATEGORIES:Literatura
ATTACH;FMTTYPE=image/png:https://octubre.cat/www/wp-content/uploads/2022/10/josep-colomer.png
END:VEVENT
END:VCALENDAR