BEGIN:VCALENDAR
VERSION:2.0
PRODID:-//Octubre Centre de Cultura Contemporània - ECPv5.1.6//NONSGML v1.0//EN
CALSCALE:GREGORIAN
METHOD:PUBLISH
X-WR-CALNAME:Octubre Centre de Cultura Contemporània
X-ORIGINAL-URL:https://octubre.cat
X-WR-CALDESC:Events for Octubre Centre de Cultura Contemporània
BEGIN:VTIMEZONE
TZID:Europe/Andorra
BEGIN:DAYLIGHT
TZOFFSETFROM:+0100
TZOFFSETTO:+0200
TZNAME:CEST
DTSTART:20150329T010000
END:DAYLIGHT
BEGIN:STANDARD
TZOFFSETFROM:+0200
TZOFFSETTO:+0100
TZNAME:CET
DTSTART:20151025T010000
END:STANDARD
END:VTIMEZONE
BEGIN:VEVENT
DTSTART;TZID=Europe/Andorra:20150326T190000
DTEND;TZID=Europe/Andorra:20150326T190000
DTSTAMP:20260421T215521
CREATED:20200729T170914Z
LAST-MODIFIED:20200730T041355Z
UID:10063-1427396400-1427396400@octubre.cat
SUMMARY:Presentació del llibre 'Història de l'Alguer'\, de Marcel A. Farinelli
DESCRIPTION:Dijous 26 de març a les 19.00h. A la llibreria 3i4  \n  \n  \n\n (Llibres de l’Índex)  Història de l’Alguer explica com la ciutat coneguda com la Barceloneta de la Sardenya neix com a ciutat catalana. L’Alguer avui és un dels indrets turístics més populars de tota Sardenya\, i una de les escasses ciutats costaneres que es poden vantar d’haver estat fundades durant l’Edat Mitjana. L’illa es carateritza per una relació complexa entre els seushabitants i el mar\, i la majoria d’ells han preferit viure a les muntanyes de l’interior. Les causes d’aquesta situació són\, encara avui\, motiu de debat\, però es poden indicar dos factors principals: els aiguamolls —que han transformat les planes costaneres en una de les regions mediterrànies més afectades pel paludisme— i les invasions. Un fet és cert: gairebé des del primer mil·lenni aC\, en els litorals sards van sorgir diverses ciutats portuàries\, fundades\, però\, per actors externs i no pas per iniciativa dels sards. L’Alguer fou una d’aquestes ciutats\, i avui és l’única minoria catalanoparlant existent a tot l’Estat Italià.
URL:https://octubre.cat/activitat/presentacio-del-llibre-historia-de-lalguer-de-marcel-a-farinelli/
LOCATION:Llibreria 3i4
CATEGORIES:Literatura
ATTACH;FMTTYPE=image/jpeg:https://octubre.cat/www/wp-content/uploads/2020/07/activitat2264.jpg
END:VEVENT
END:VCALENDAR