BEGIN:VCALENDAR
VERSION:2.0
PRODID:-//Octubre Centre de Cultura Contemporània - ECPv5.1.6//NONSGML v1.0//EN
CALSCALE:GREGORIAN
METHOD:PUBLISH
X-WR-CALNAME:Octubre Centre de Cultura Contemporània
X-ORIGINAL-URL:https://octubre.cat
X-WR-CALDESC:Events for Octubre Centre de Cultura Contemporània
BEGIN:VTIMEZONE
TZID:Europe/Andorra
BEGIN:DAYLIGHT
TZOFFSETFROM:+0100
TZOFFSETTO:+0200
TZNAME:CEST
DTSTART:20180325T010000
END:DAYLIGHT
BEGIN:STANDARD
TZOFFSETFROM:+0200
TZOFFSETTO:+0100
TZNAME:CET
DTSTART:20181028T010000
END:STANDARD
END:VTIMEZONE
BEGIN:VEVENT
DTSTART;TZID=Europe/Andorra:20181212T190000
DTEND;TZID=Europe/Andorra:20181212T190000
DTSTAMP:20260421T103741
CREATED:20200729T173221Z
LAST-MODIFIED:20200729T191011Z
UID:11326-1544641200-1544641200@octubre.cat
SUMMARY:Presentació del llibre "Història de la cuina catalana i occitana"\, de Vicent Marqués
DESCRIPTION:Dimecres 12 de desembre a les 19.00h. Amb l’autor acompanyat per Sal·lus Herrero.	 \n  \n  \n\n 	 Amb l’autor i Sal·lus Herrero.  En aquest volum ens ofereix 200 monografies i més de 300 receptes de salses\, d’aperitius\, d’ensalades i de sopes que ens expliquen\, no només com els hem de cuinar\, sinó el recorregut històric\, filològic\, literari i cultural d’uns plats i d’unes receptes que conformen el corpus de la cuina que compartim la gent dels Països Catalans i dels Països Occitans.  (Sidillà edicions)
URL:https://octubre.cat/activitat/presentacio-del-llibre-historia-de-la-cuina-catalana-i-occitana-de-vicent-marques/
LOCATION:Llibreria Fan Set
CATEGORIES:Literatura
ATTACH;FMTTYPE=image/jpeg:https://octubre.cat/www/wp-content/uploads/2020/07/activitat3167.jpg
END:VEVENT
END:VCALENDAR