BEGIN:VCALENDAR
VERSION:2.0
PRODID:-//Octubre Centre de Cultura Contemporània - ECPv5.1.6//NONSGML v1.0//EN
CALSCALE:GREGORIAN
METHOD:PUBLISH
X-WR-CALNAME:Octubre Centre de Cultura Contemporània
X-ORIGINAL-URL:https://octubre.cat
X-WR-CALDESC:Events for Octubre Centre de Cultura Contemporània
BEGIN:VTIMEZONE
TZID:Europe/Andorra
BEGIN:DAYLIGHT
TZOFFSETFROM:+0100
TZOFFSETTO:+0200
TZNAME:CEST
DTSTART:20220327T010000
END:DAYLIGHT
BEGIN:STANDARD
TZOFFSETFROM:+0200
TZOFFSETTO:+0100
TZNAME:CET
DTSTART:20221030T010000
END:STANDARD
END:VTIMEZONE
BEGIN:VEVENT
DTSTART;TZID=Europe/Andorra:20220114T190000
DTEND;TZID=Europe/Andorra:20220114T190000
DTSTAMP:20260421T210718
CREATED:20211216T111427Z
LAST-MODIFIED:20250629T102907Z
UID:17527-1642186800-1642186800@octubre.cat
SUMMARY:Presentació del llibre Hem d’acostar-nos més a València\, de Josep Pla
DESCRIPTION:A càrrec d’Antoni Martí Monterde (autor de la selecció de textos) i Xavier Pla (director de la Càtedra Pla de la Universitat de Girona). \nHem d’acostar-nos més a València podria haver estat un llibre editat per Joan Fuster. De fet\, va ser ell mateix qui\, fa molts anys\, va proposar a Eliseu Climent una antologia d’escrits de Josep Pla sobre el País Valencià\, fins i tot en va redactar un esquema en un full\, malauradament perdut. Aquest llibre parteix d’una hipòtesi traçada per Antoni Martí Monterde sobre com hauria pogut ser aquell llibre. \nEncara que sembli una antologia\, en aquestes pàgines hi trobem un itinerari\, una visió literària i de vegades intel·lectual de paisatges\, obres i noms valencians\, un desig de construir una relació més intensa i un gran diàleg entre els dos escriptors catalans més decisius del segle XX\, que\, amb la seva relació\, van donar pàgines\, idees i projectes clau per al nostre país. \n \n(Edicions 3i4)
URL:https://octubre.cat/activitat/presentacio-del-llibre-hem-dacostar-nos-mes-a-valencia-de-josep-pla/
LOCATION:Llibreria Fan Set
CATEGORIES:Any Joan Fuster 2022,Literatura
ATTACH;FMTTYPE=image/jpeg:https://octubre.cat/www/wp-content/uploads/2021/12/Josep-Pla-Joan-Fuster-scaled.jpg
END:VEVENT
END:VCALENDAR