BEGIN:VCALENDAR
VERSION:2.0
PRODID:-//Octubre Centre de Cultura Contemporània - ECPv5.1.6//NONSGML v1.0//EN
CALSCALE:GREGORIAN
METHOD:PUBLISH
X-WR-CALNAME:Octubre Centre de Cultura Contemporània
X-ORIGINAL-URL:https://octubre.cat
X-WR-CALDESC:Events for Octubre Centre de Cultura Contemporània
BEGIN:VTIMEZONE
TZID:Europe/Andorra
BEGIN:DAYLIGHT
TZOFFSETFROM:+0100
TZOFFSETTO:+0200
TZNAME:CEST
DTSTART:20200329T010000
END:DAYLIGHT
BEGIN:STANDARD
TZOFFSETFROM:+0200
TZOFFSETTO:+0100
TZNAME:CET
DTSTART:20201025T010000
END:STANDARD
END:VTIMEZONE
BEGIN:VEVENT
DTSTART;TZID=Europe/Andorra:20200304T190000
DTEND;TZID=Europe/Andorra:20200304T190000
DTSTAMP:20260421T070502
CREATED:20200729T191400Z
LAST-MODIFIED:20200729T191400Z
UID:13711-1583348400-1583348400@octubre.cat
SUMMARY:Presentació del llibre "Guillem"\, de Núria Cadenes
DESCRIPTION:Dimecres 4 de març a les 19.00h. Amb l’autora acompanyada per Guillem i Betlem Agulló\, Miquel Ramos i Rafa Molés.	 \n  \n  \n\n 	 Amb l’autora acompanyada per Guillem Agulló (pare de Guillem)\, Betlem Agulló (germana)\, Miquel Ramos (periodista) i Rafa Molés (productor de la pel·lícula La mort de Guillem)  L’assassinat de Guillem Agulló és un esgarrifós exemple de la impunitat amb què actua el feixisme\, sota la protecció de les forces policíaques i del sistema judicial\, i amb la vergonyosa complicitat d’una premsa capaç de manipular la realitat fins a l’extrem de presentar la víctima com a botxí. Aquesta novel·la documental ens submergeix en una València amb urpes\, “on les hòsties volen com si fossin part del decorat”\, i denuncia l’intent de soterrar viva una família. Assetjant-los. Calumniant-los. Posant-los a la diana del seu odi amb pintades als carrers i pancartes de «Guillem\, jódete» als estadis de futbol. No ho van aconseguir.  Núria Cadenes\, amb un estil depurat i contingut\, s’ha immers en el sumari del cas\, en els diaris de l’època\, en els records de la família i amics del Guillem i fins i tot en el seu propi passat per mesurar la distància que hi ha entre la paraula injustícia i la paraula dignitat. Ni oblit ni perdó.  (Amsterdam)
URL:https://octubre.cat/activitat/presentacio-del-llibre-guillem-de-nuria-cadenes/
LOCATION:Sala d’actes
CATEGORIES:Literatura
ATTACH;FMTTYPE=image/jpeg:https://octubre.cat/www/wp-content/uploads/2020/07/activitat3455.jpg
END:VEVENT
END:VCALENDAR