BEGIN:VCALENDAR
VERSION:2.0
PRODID:-//Octubre Centre de Cultura Contemporània - ECPv5.1.6//NONSGML v1.0//EN
CALSCALE:GREGORIAN
METHOD:PUBLISH
X-WR-CALNAME:Octubre Centre de Cultura Contemporània
X-ORIGINAL-URL:https://octubre.cat
X-WR-CALDESC:Events for Octubre Centre de Cultura Contemporània
BEGIN:VTIMEZONE
TZID:Europe/Andorra
BEGIN:DAYLIGHT
TZOFFSETFROM:+0100
TZOFFSETTO:+0200
TZNAME:CEST
DTSTART:20250330T010000
END:DAYLIGHT
BEGIN:STANDARD
TZOFFSETFROM:+0200
TZOFFSETTO:+0100
TZNAME:CET
DTSTART:20251026T010000
END:STANDARD
END:VTIMEZONE
BEGIN:VEVENT
DTSTART;TZID=Europe/Andorra:20251017T190000
DTEND;TZID=Europe/Andorra:20251017T190000
DTSTAMP:20260420T145542
CREATED:20251008T142541Z
LAST-MODIFIED:20251008T142541Z
UID:23791-1760727600-1760727600@octubre.cat
SUMMARY:Presentació del llibre Guerra\, victòria\, demà\, de Carles Fenollosa
DESCRIPTION:En la veu intensa i delicada de Jesús Martorell —metge\, testimoni i supervivent— es desplega la València convulsa del segle XX: la infància marcada per la mort i la pèrdua\, la joventut tenyida de somnis\, amistats i revolucions\, i l’edat adulta atrapada en el laberint de la història. Entre tavernes obreres i cafés literaris\, la seua memòria ens guia per un temps en què el fervor dels ideals feien que tot semblara possible.  \nGuerra\, victòria\, demà és una novel·la monumental sobre la fortalesa i la fragilitat de les conviccions\, l’herència de la por i la tossuda resistència de la vida. És la gran novel·la dels temps de la República\, la Guerra Civil i l’exili de molts valencians\, un viatge que s’estén des del cor de la plaça de Pellissers fins a París\, Nàpols\, Dachau o Buenos Aires. Com un Ulisses involuntari\, el protagonista s’enfronta a un retorn quasi impossible a casa. \n  \n \n(Drassana)
URL:https://octubre.cat/activitat/presentacio-del-llibre-guerra-victoria-dema-de-carles-fenollosa/
LOCATION:Llibreria Fan Set
CATEGORIES:Literatura
ATTACH;FMTTYPE=image/jpeg:https://octubre.cat/www/wp-content/uploads/2025/10/carles-fenollosa.jpg
END:VEVENT
END:VCALENDAR