BEGIN:VCALENDAR
VERSION:2.0
PRODID:-//Octubre Centre de Cultura Contemporània - ECPv5.1.6//NONSGML v1.0//EN
CALSCALE:GREGORIAN
METHOD:PUBLISH
X-WR-CALNAME:Octubre Centre de Cultura Contemporània
X-ORIGINAL-URL:https://octubre.cat
X-WR-CALDESC:Events for Octubre Centre de Cultura Contemporània
BEGIN:VTIMEZONE
TZID:Europe/Andorra
BEGIN:DAYLIGHT
TZOFFSETFROM:+0100
TZOFFSETTO:+0200
TZNAME:CEST
DTSTART:20250330T010000
END:DAYLIGHT
BEGIN:STANDARD
TZOFFSETFROM:+0200
TZOFFSETTO:+0100
TZNAME:CET
DTSTART:20251026T010000
END:STANDARD
END:VTIMEZONE
BEGIN:VEVENT
DTSTART;TZID=Europe/Andorra:20250619T190000
DTEND;TZID=Europe/Andorra:20250619T190000
DTSTAMP:20260420T231019
CREATED:20250606T150906Z
LAST-MODIFIED:20250613T075254Z
UID:22892-1750359600-1750359600@octubre.cat
SUMMARY:Presentació del llibre Grup 49. Dansa de vetlatori\, de Manuel Molins
DESCRIPTION:Presentació a càrrec de Jaume Millás\, periodista i assessor de Galés Edicions.\nAmb la participació de Manuel Molins\, Empar Puig i Josep Marí.\nActuació coral amb acompanyament musical de Paco Pérez Molins (guitarra)\, Jordi Pérez (trompa)\, Francesc Anyó (trompeta) i Maria Pérez (clarinet). \nDansa de vetlatori de Manuel Molins es va estrenar el 1975 pel Grup 49 de teatre d’Alfara del Patriarca (Horta Nord). Com va indicar la crítica i el públic del moment\, va significar una gran aportació al nostre teatre i l’inici d’un canvi de tendència dramatúrgica tant en la visió de l’escena\, de la història o dels seus protagonistes com en l’ús de la llengua\, la música i certs elements de la tradició popular. Les més de 100 representacions de dalt a baix del país\, malgrat les condicions tècniques i polítiques del moment\, constaten no només l’èxit de la proposta\, sinó també com els diferents públics havien fet seu el moviment del Teatre Independent que apostava per un nou futur del teatre i la cultura. \nEl present volum commemora els cinquanta anys de l’estrena de Dansa de vetlatori. En reedita el text i dona a conèixer una abundant documentació de l’espectacle: storyboard\, figurins\, partitures\, fotografies\, crítiques i comentaris\, expedients de censura… Presenta\, a més\, el pròleg del malaguanyat historiador Sebastià Garcia Martínez\, i l’anàlisi sobre l’obra i l’efecte de la censura del professor Francesc Foguet (UAB).  \n  \n \n(Galés Edicions)
URL:https://octubre.cat/activitat/presentacio-del-llibre-grup-49-dansa-de-vetlatori-de-manuel-molins/
LOCATION:Llibreria Fan Set
CATEGORIES:Literatura
ATTACH;FMTTYPE=image/jpeg:https://octubre.cat/www/wp-content/uploads/2025/06/ManuelMolins_FotoPRATSiCAMPS-3gx.jpg
END:VEVENT
END:VCALENDAR