BEGIN:VCALENDAR
VERSION:2.0
PRODID:-//Octubre Centre de Cultura Contemporània - ECPv5.1.6//NONSGML v1.0//EN
CALSCALE:GREGORIAN
METHOD:PUBLISH
X-WR-CALNAME:Octubre Centre de Cultura Contemporània
X-ORIGINAL-URL:https://octubre.cat
X-WR-CALDESC:Events for Octubre Centre de Cultura Contemporània
BEGIN:VTIMEZONE
TZID:Europe/Andorra
BEGIN:DAYLIGHT
TZOFFSETFROM:+0100
TZOFFSETTO:+0200
TZNAME:CEST
DTSTART:20180325T010000
END:DAYLIGHT
BEGIN:STANDARD
TZOFFSETFROM:+0200
TZOFFSETTO:+0100
TZNAME:CET
DTSTART:20181028T010000
END:STANDARD
END:VTIMEZONE
BEGIN:VEVENT
DTSTART;TZID=Europe/Andorra:20180925T190000
DTEND;TZID=Europe/Andorra:20180925T190000
DTSTAMP:20260423T084331
CREATED:20200729T173128Z
LAST-MODIFIED:20200729T190926Z
UID:11270-1537902000-1537902000@octubre.cat
SUMMARY:Presentació del llibre "Geografies de l'atzar"\, d'Alba Fluixà
DESCRIPTION:Dimarts 25 de setembre a les 19.00h\, amb l’autora acompanyada per Marc Granell i Gonçal López-Pampló.	 \n  \n  \n\n 	 Amb l’autora acompanyada pel poeta Marc Granell i per Gonçal López-Pampló\, director literari de l’editorial Bromera.
URL:https://octubre.cat/activitat/presentacio-del-llibre-geografies-de-latzar-dalba-fluixa/
LOCATION:Llibreria Fan Set
CATEGORIES:Literatura
ATTACH;FMTTYPE=image/jpeg:https://octubre.cat/www/wp-content/uploads/2020/07/activitat3109.jpg
END:VEVENT
END:VCALENDAR