BEGIN:VCALENDAR
VERSION:2.0
PRODID:-//Octubre Centre de Cultura Contemporània - ECPv5.1.6//NONSGML v1.0//EN
CALSCALE:GREGORIAN
METHOD:PUBLISH
X-WR-CALNAME:Octubre Centre de Cultura Contemporània
X-ORIGINAL-URL:https://octubre.cat
X-WR-CALDESC:Events for Octubre Centre de Cultura Contemporània
BEGIN:VTIMEZONE
TZID:Europe/Andorra
BEGIN:DAYLIGHT
TZOFFSETFROM:+0100
TZOFFSETTO:+0200
TZNAME:CEST
DTSTART:20140330T010000
END:DAYLIGHT
BEGIN:STANDARD
TZOFFSETFROM:+0200
TZOFFSETTO:+0100
TZNAME:CET
DTSTART:20141026T010000
END:STANDARD
END:VTIMEZONE
BEGIN:VEVENT
DTSTART;TZID=Europe/Andorra:20140516T190000
DTEND;TZID=Europe/Andorra:20140516T190000
DTSTAMP:20260420T220212
CREATED:20200729T170448Z
LAST-MODIFIED:20200730T041132Z
UID:9776-1400266800-1400266800@octubre.cat
SUMMARY:Presentació del llibre 'General Moragues'\, d'Àlex Barnils
DESCRIPTION:Divendres 16 de maig a les 19.00h. Amb l’autor\, Vicent Olmos i Pau Sif  \n  \n  \n\n Presentació del llibre General Moragues\, el diable de les Guilleries (Clipmèdia Edicions)\, d’Àlex Barnils.  Amb l’autor i amb Vicent Olmos. Lectura de textos a càrrec de Pau Sif.
URL:https://octubre.cat/activitat/presentacio-del-llibre-general-moragues-dalex-barnils/
LOCATION:Llibreria 3i4
CATEGORIES:Literatura
ATTACH;FMTTYPE=image/jpeg:https://octubre.cat/www/wp-content/uploads/2020/07/activitat2075.jpg
END:VEVENT
END:VCALENDAR