BEGIN:VCALENDAR
VERSION:2.0
PRODID:-//Octubre Centre de Cultura Contemporània - ECPv5.1.6//NONSGML v1.0//EN
CALSCALE:GREGORIAN
METHOD:PUBLISH
X-WR-CALNAME:Octubre Centre de Cultura Contemporània
X-ORIGINAL-URL:https://octubre.cat
X-WR-CALDESC:Events for Octubre Centre de Cultura Contemporània
BEGIN:VTIMEZONE
TZID:Europe/Andorra
BEGIN:DAYLIGHT
TZOFFSETFROM:+0100
TZOFFSETTO:+0200
TZNAME:CEST
DTSTART:20150329T010000
END:DAYLIGHT
BEGIN:STANDARD
TZOFFSETFROM:+0200
TZOFFSETTO:+0100
TZNAME:CET
DTSTART:20151025T010000
END:STANDARD
END:VTIMEZONE
BEGIN:VEVENT
DTSTART;TZID=Europe/Andorra:20150310T190000
DTEND;TZID=Europe/Andorra:20150310T190000
DTSTAMP:20260422T044553
CREATED:20200729T170952Z
LAST-MODIFIED:20200730T041413Z
UID:10105-1426014000-1426014000@octubre.cat
SUMMARY:Presentació del llibre 'Gegants de gel'\, de Joan Benesiu
DESCRIPTION:Dimarts 10 de març a les 19.00h\, a la llibreria 3i4  \n  \n  \n\n (Periscopi)  Joan Benesiu (Beneixama\, 1971)\, pseudònim de l’escriptor Josep Martínez Sanchis\, publica aquesta novel·la després d’haver guanyat amb Intercanvi (Bromera) el premi Ciutat de Xàtiva l’any 2007\, d’haver escrit nombrosos contes amb els quals ha obtingut diversos guardons i d’haver col·laborat en l’opuscle cultural L’Esca\, d’Arbúcies\, i en la revista Manual de Uso Cultural\, de Màlaga. És professor de filosofia a un institut de secundària del sud del País Valencià\, on dirigeix des de fa nou anys un cineclub. La combinació de la seva prosa\, suggeridora i enigmàtica\, amb una veu molt personal deixa entreveure una narrativa d’alta volada que ens ofereix una literatura ambiciosa alhora que plaent.
URL:https://octubre.cat/activitat/presentacio-del-llibre-gegants-de-gel-de-joan-benesiu/
LOCATION:Llibreria 3i4
CATEGORIES:Literatura
ATTACH;FMTTYPE=image/jpeg:https://octubre.cat/www/wp-content/uploads/2020/07/activitat2288.jpg
END:VEVENT
END:VCALENDAR