BEGIN:VCALENDAR
VERSION:2.0
PRODID:-//Octubre Centre de Cultura Contemporània - ECPv5.1.6//NONSGML v1.0//EN
CALSCALE:GREGORIAN
METHOD:PUBLISH
X-WR-CALNAME:Octubre Centre de Cultura Contemporània
X-ORIGINAL-URL:https://octubre.cat
X-WR-CALDESC:Events for Octubre Centre de Cultura Contemporània
BEGIN:VTIMEZONE
TZID:Europe/Andorra
BEGIN:DAYLIGHT
TZOFFSETFROM:+0100
TZOFFSETTO:+0200
TZNAME:CEST
DTSTART:20190331T010000
END:DAYLIGHT
BEGIN:STANDARD
TZOFFSETFROM:+0200
TZOFFSETTO:+0100
TZNAME:CET
DTSTART:20191027T010000
END:STANDARD
END:VTIMEZONE
BEGIN:VEVENT
DTSTART;TZID=Europe/Andorra:20190517T190000
DTEND;TZID=Europe/Andorra:20190517T190000
DTSTAMP:20260421T072511
CREATED:20200729T173347Z
LAST-MODIFIED:20200729T191123Z
UID:11416-1558119600-1558119600@octubre.cat
SUMMARY:Presentació del llibre "Galeria d'incerteses"\, d'Alba Fluixà
DESCRIPTION:Divendres 17 de maig a les 19.00h\, a la llibreria Fan Set.	 \n  \n  \n\n 	 Premi Ibn Hafaja Ciutat d’Alzira.  Trobar la fugissera força còsmica que regeix el nostre univers\, i pensar que això és possible dins de cada casa i de cada creació\, és la ingenuïtat imprescindible de l’origen de l’art.
URL:https://octubre.cat/activitat/presentacio-del-llibre-galeria-dincerteses-dalba-fluixa/
LOCATION:Llibreria Fan Set
CATEGORIES:Literatura
ATTACH;FMTTYPE=image/jpeg:https://octubre.cat/www/wp-content/uploads/2020/07/activitat3261.jpg
END:VEVENT
END:VCALENDAR