BEGIN:VCALENDAR
VERSION:2.0
PRODID:-//Octubre Centre de Cultura Contemporània - ECPv5.1.6//NONSGML v1.0//EN
CALSCALE:GREGORIAN
METHOD:PUBLISH
X-WR-CALNAME:Octubre Centre de Cultura Contemporània
X-ORIGINAL-URL:https://octubre.cat
X-WR-CALDESC:Events for Octubre Centre de Cultura Contemporània
BEGIN:VTIMEZONE
TZID:Europe/Andorra
BEGIN:DAYLIGHT
TZOFFSETFROM:+0100
TZOFFSETTO:+0200
TZNAME:CEST
DTSTART:20150329T010000
END:DAYLIGHT
BEGIN:STANDARD
TZOFFSETFROM:+0200
TZOFFSETTO:+0100
TZNAME:CET
DTSTART:20151025T010000
END:STANDARD
END:VTIMEZONE
BEGIN:VEVENT
DTSTART;TZID=Europe/Andorra:20150929T190000
DTEND;TZID=Europe/Andorra:20150929T190000
DTSTAMP:20260421T165956
CREATED:20200729T171221Z
LAST-MODIFIED:20200730T041513Z
UID:10264-1443553200-1443553200@octubre.cat
SUMMARY:Presentació del llibre 'Fràgils naufragis'\, de Nora Albert
DESCRIPTION:Dimarts 29 de setembre a les 19.00h\, a la llibreria 3i4.  \n  \n  \n\n (edicions Viena).  «La poesia de Nora Albert ens parla de la mar\, del viatge\, de les petites coses\, de l’amor i el desamor o de la mateixa poesia\, de la lluita contra l’oblit\, del desig sobretot (…)\, en uns versos ben sovint fulgurants\, imatges potents i sensibles alhora\, en poemes difícils d’oblidar.»  Del pròleg de Jaume Pérez-Montaner  (foto: Moisés Copa / Diario de Ibiza)
URL:https://octubre.cat/activitat/presentacio-del-llibre-fragils-naufragis-de-nora-albert/
LOCATION:Llibreria 3i4
CATEGORIES:Literatura
ATTACH;FMTTYPE=image/jpeg:https://octubre.cat/www/wp-content/uploads/2020/07/activitat2371.jpg
END:VEVENT
END:VCALENDAR