BEGIN:VCALENDAR
VERSION:2.0
PRODID:-//Octubre Centre de Cultura Contemporània - ECPv5.1.6//NONSGML v1.0//EN
CALSCALE:GREGORIAN
METHOD:PUBLISH
X-WR-CALNAME:Octubre Centre de Cultura Contemporània
X-ORIGINAL-URL:https://octubre.cat
X-WR-CALDESC:Events for Octubre Centre de Cultura Contemporània
BEGIN:VTIMEZONE
TZID:Europe/Andorra
BEGIN:DAYLIGHT
TZOFFSETFROM:+0100
TZOFFSETTO:+0200
TZNAME:CEST
DTSTART:20250330T010000
END:DAYLIGHT
BEGIN:STANDARD
TZOFFSETFROM:+0200
TZOFFSETTO:+0100
TZNAME:CET
DTSTART:20251026T010000
END:STANDARD
END:VTIMEZONE
BEGIN:VEVENT
DTSTART;TZID=Europe/Andorra:20250528T190000
DTEND;TZID=Europe/Andorra:20250528T190000
DTSTAMP:20260420T121025
CREATED:20250512T144854Z
LAST-MODIFIED:20260130T095240Z
UID:22767-1748458800-1748458800@octubre.cat
SUMMARY:Presentació del llibre Feridura\, de Begonya Mezquita
DESCRIPTION:Amb l’autora acompanyada per Lola Andrés \nLa poesia de la Begonya Mezquita ha estat sempre\, i cada cop més\, arrelada en la matèria: en la llum i la terra\, en el cos i el tu. Que és la manera d’existir del poema\, antítesi de l’ego que s’exposa vanitós en un instagràmic aparador de carreró vermell. La generositat de veure\, oir i tocar\, de cantar i fondre’s i ésser aquell no-jo que és la vida\, l’ésser: vet aquí la poesia i Begonya Mezquita. Fins l’omnipresència del record en la seva poètica és la consciència de l’arrel\, del sentit que la matèria en brut dóna\, real\, a les cabòries de fum del present. \n  \n \n(Edicions del Buc) \n  \nAmb la col·laboració de:
URL:https://octubre.cat/activitat/presentacio-del-llibre-feridura-de-begonya-mezquita/
LOCATION:Llibreria Fan Set
CATEGORIES:Literatura
ATTACH;FMTTYPE=image/jpeg:https://octubre.cat/www/wp-content/uploads/2025/05/begonya-mezquita__.jpg
END:VEVENT
END:VCALENDAR