BEGIN:VCALENDAR
VERSION:2.0
PRODID:-//Octubre Centre de Cultura Contemporània - ECPv5.1.6//NONSGML v1.0//EN
CALSCALE:GREGORIAN
METHOD:PUBLISH
X-WR-CALNAME:Octubre Centre de Cultura Contemporània
X-ORIGINAL-URL:https://octubre.cat
X-WR-CALDESC:Events for Octubre Centre de Cultura Contemporània
BEGIN:VTIMEZONE
TZID:Europe/Andorra
BEGIN:DAYLIGHT
TZOFFSETFROM:+0100
TZOFFSETTO:+0200
TZNAME:CEST
DTSTART:20210328T010000
END:DAYLIGHT
BEGIN:STANDARD
TZOFFSETFROM:+0200
TZOFFSETTO:+0100
TZNAME:CET
DTSTART:20211031T010000
END:STANDARD
END:VTIMEZONE
BEGIN:VEVENT
DTSTART;TZID=Europe/Andorra:20210513T190000
DTEND;TZID=Europe/Andorra:20210513T190000
DTSTAMP:20260421T105053
CREATED:20210330T091743Z
LAST-MODIFIED:20210509T064658Z
UID:16228-1620932400-1620932400@octubre.cat
SUMMARY:Presentació del llibre Farem un pensament. Metaforismes i saials\, de Manel Rodríguez-Castelló
DESCRIPTION:Amb l’autor acompanyat pel crític Enric Iborra. \nAquest volum reuneix aforismes —que l’autor ha rebatejat com a metaforismes per subratllar-ne la vinculació directa amb un dels mecanismes bàsics de creació de sentit de l’art poètica— i una sèrie de columnes periodístiques d’escriptura fragmentària que anomena saials pel que tenen de draps de neteja d’una realitat social sovint espúria i bruta\, escàpola i complexa\, punyent i contradictòria\, i d’aclariment\, com tota escriptura que vol posar una mica de llum enraonada en les coses. \n \nFarem un pensament\, doncs\, és un títol que podem entendre en la seua literalitat\, per tal com el llibre encaixa peces diverses de pensament\, sovint captat en la seua transitorietat poètica\, i també en els sentits que l’ús popular ha donat a l’expressió. Reivindicar el fragment i la brevetat en temps de missatgeria fàcil\, de confusions i immediateses aptes per al consum ràpid que es fa a ulls clucs\, és també una manera de contribuir\, des del marge humil de la literatura\, a la reflexió i el debat serens\, a l’enfortiment de la crítica i la cimentació de les raons per a la dissidència. Acostar-se a la realitat des de nous angles i perspectives tot mirant d’esquivar els paranys dels prejudicis\, les aparences i els llocs comuns que fabriquen els vigilants de l’ordre\, és la pretensió última d’aquests textos fragmentaris\, escrits entre la ironia i la tendresa\, l’estupor i l’admiració\, dictats per les emocions i l’estima indeleble per la vida. \n(Lletra Impresa)
URL:https://octubre.cat/activitat/presentacio-del-llibre-farem-un-pensament-metaforismes-i-saials-de-manel-rodriguez-castello/
LOCATION:Llibreria Fan Set
CATEGORIES:Literatura
ATTACH;FMTTYPE=image/jpeg:https://octubre.cat/www/wp-content/uploads/2021/03/pral-Farem-un-pensament.jpg
END:VEVENT
END:VCALENDAR