BEGIN:VCALENDAR
VERSION:2.0
PRODID:-//Octubre Centre de Cultura Contemporània - ECPv5.1.6//NONSGML v1.0//EN
CALSCALE:GREGORIAN
METHOD:PUBLISH
X-WR-CALNAME:Octubre Centre de Cultura Contemporània
X-ORIGINAL-URL:https://octubre.cat
X-WR-CALDESC:Events for Octubre Centre de Cultura Contemporània
BEGIN:VTIMEZONE
TZID:Europe/Andorra
BEGIN:DAYLIGHT
TZOFFSETFROM:+0100
TZOFFSETTO:+0200
TZNAME:CEST
DTSTART:20180325T010000
END:DAYLIGHT
BEGIN:STANDARD
TZOFFSETFROM:+0200
TZOFFSETTO:+0100
TZNAME:CET
DTSTART:20181028T010000
END:STANDARD
END:VTIMEZONE
BEGIN:VEVENT
DTSTART;TZID=Europe/Andorra:20180613T190000
DTEND;TZID=Europe/Andorra:20180613T190000
DTSTAMP:20260421T202636
CREATED:20200729T173051Z
LAST-MODIFIED:20200729T190856Z
UID:11233-1528916400-1528916400@octubre.cat
SUMMARY:Presentació del llibre "Examen oral d'històries"\, de Joan Montañés Xipell
DESCRIPTION:Dimecres 13 de juny a les 19.00h. Amb Ferran Sanxis Cardona\, inspirador del llibre\, Isabel Olmos\, subdirectora del diari Levante-EMV\, i Salvador Vendrell\, escriptor.	 \n  \n  \n\n 	 Presentació del llibre Examen oral d’històries. L’anecdotari de Ferran Sanxis (Onada)\, de Joan Montañés Xipell.  Amb Ferran Sanxis Cardona\, inspirador del llibre\, Isabel Olmos\, subdirectora del diari Levante-EMV\, i Salvador Vendrell\, escriptor.
URL:https://octubre.cat/activitat/presentacio-del-llibre-examen-oral-dhistories-de-joan-montanes-xipell/
LOCATION:Llibreria Fan Set
CATEGORIES:Literatura
ATTACH;FMTTYPE=image/jpeg:https://octubre.cat/www/wp-content/uploads/2020/07/activitat3073.jpg
END:VEVENT
END:VCALENDAR