BEGIN:VCALENDAR
VERSION:2.0
PRODID:-//Octubre Centre de Cultura Contemporània - ECPv5.1.6//NONSGML v1.0//EN
CALSCALE:GREGORIAN
METHOD:PUBLISH
X-WR-CALNAME:Octubre Centre de Cultura Contemporània
X-ORIGINAL-URL:https://octubre.cat
X-WR-CALDESC:Events for Octubre Centre de Cultura Contemporània
BEGIN:VTIMEZONE
TZID:Europe/Andorra
BEGIN:DAYLIGHT
TZOFFSETFROM:+0100
TZOFFSETTO:+0200
TZNAME:CEST
DTSTART:20070325T010000
END:DAYLIGHT
BEGIN:STANDARD
TZOFFSETFROM:+0200
TZOFFSETTO:+0100
TZNAME:CET
DTSTART:20071028T010000
END:STANDARD
END:VTIMEZONE
BEGIN:VEVENT
DTSTART;TZID=Europe/Andorra:20070607T000000
DTEND;TZID=Europe/Andorra:20070607T000000
DTSTAMP:20260420T182832
CREATED:20251227T180124Z
LAST-MODIFIED:20251227T180124Z
UID:24385-1181174400-1181174400@octubre.cat
SUMMARY:Presentació del llibre Esylt T. Lawrence. Una gal·lesa entre dracs\, de Carme Manuel
DESCRIPTION:Presentació del llibre Esylt T. Lawrence. Una gal·lesa entre dracs\, de Carme Manuel\, professora de la Facultat de Filologia de la Universitat de València.
URL:https://octubre.cat/activitat/presentacio-del-llibre-esylt-t-lawrence-una-gallesa-entre-dracs-de-carme-manuel/
LOCATION:No definit
CATEGORIES:Literatura
ATTACH;FMTTYPE=image/jpeg:https://octubre.cat/www/wp-content/uploads/2020/07/llibres1.jpg
END:VEVENT
END:VCALENDAR