BEGIN:VCALENDAR
VERSION:2.0
PRODID:-//Octubre Centre de Cultura Contemporània - ECPv5.1.6//NONSGML v1.0//EN
CALSCALE:GREGORIAN
METHOD:PUBLISH
X-WR-CALNAME:Octubre Centre de Cultura Contemporània
X-ORIGINAL-URL:https://octubre.cat
X-WR-CALDESC:Events for Octubre Centre de Cultura Contemporània
BEGIN:VTIMEZONE
TZID:Europe/Andorra
BEGIN:DAYLIGHT
TZOFFSETFROM:+0100
TZOFFSETTO:+0200
TZNAME:CEST
DTSTART:20180325T010000
END:DAYLIGHT
BEGIN:STANDARD
TZOFFSETFROM:+0200
TZOFFSETTO:+0100
TZNAME:CET
DTSTART:20181028T010000
END:STANDARD
END:VTIMEZONE
BEGIN:VEVENT
DTSTART;TZID=Europe/Andorra:20180215T190000
DTEND;TZID=Europe/Andorra:20180215T190000
DTSTAMP:20260420T221409
CREATED:20200729T190301Z
LAST-MODIFIED:20200729T190301Z
UID:13330-1518721200-1518721200@octubre.cat
SUMMARY:Presentació del llibre 'Estocolm'\, de Josep Vicent Cabrera.
DESCRIPTION:Dijous 15 de febrer a les 19.00h. Amb l’autor acompanyat per Maria Josep Escrivà.  \n  \n  \n\n Amb l’autor acompanyat per Maria Josep Escrivà.  Josep Vicent Cabrera –El Verger (la Marina Alta\, 1976)–\, és poeta\, traductor i professor. Ha escrit les obres Dos poals de sabó i un cabàs de no res\, quan\, fet i fet\, uns altres peguen el mos; no hi ha cap altre camí que descreure (2005)\, Els hòmens primer si és home i després les dones i al contrari (2010)\, Ei\, que ja sé francès! (2014) i Estocolm (2017). Ha traduït també un aplec de poemes de l’escriptora afganesa Nadià Anjoman\, Jo\, que no he valgut els budells d’un gos (2012). Al remat ha participat en recitals poètics: For sale (o 50 veus de la terra)\, Un cant a l’esperança/Camí de denúncia\, així com també en el llibre-CD Joan Fuster recitable (2017).
URL:https://octubre.cat/activitat/presentacio-del-llibre-estocolm-de-josep-vicent-cabrera/
LOCATION:Llibreria Fan Set
CATEGORIES:Literatura
ATTACH;FMTTYPE=image/jpeg:https://octubre.cat/www/wp-content/uploads/2020/07/activitat2970.jpg
END:VEVENT
END:VCALENDAR