BEGIN:VCALENDAR
VERSION:2.0
PRODID:-//Octubre Centre de Cultura Contemporània - ECPv5.1.6//NONSGML v1.0//EN
CALSCALE:GREGORIAN
METHOD:PUBLISH
X-WR-CALNAME:Octubre Centre de Cultura Contemporània
X-ORIGINAL-URL:https://octubre.cat
X-WR-CALDESC:Events for Octubre Centre de Cultura Contemporània
BEGIN:VTIMEZONE
TZID:Europe/Andorra
BEGIN:DAYLIGHT
TZOFFSETFROM:+0100
TZOFFSETTO:+0200
TZNAME:CEST
DTSTART:20140330T010000
END:DAYLIGHT
BEGIN:STANDARD
TZOFFSETFROM:+0200
TZOFFSETTO:+0100
TZNAME:CET
DTSTART:20141026T010000
END:STANDARD
END:VTIMEZONE
BEGIN:VEVENT
DTSTART;TZID=Europe/Andorra:20140327T190000
DTEND;TZID=Europe/Andorra:20140327T190000
DTSTAMP:20260421T212355
CREATED:20200729T170407Z
LAST-MODIFIED:20200729T184416Z
UID:9734-1395946800-1395946800@octubre.cat
SUMMARY:Presentació del llibre 'Estellés euskaraz'
DESCRIPTION:Dijous 27 de març a les 19.00h. Presentació de la primera antologia bilingüe valencià-basc de Vicent Andrés Estellés. Amb jam poètica poliglota presentada per Héctor Arnau. A càrrec de Bostezo Llibres\, Euskaltzaleok Valentzia i l’AELC  \n  \n  \n\n Antologia bilingüe valencià-basc de Vicent Andrés Estellés (Bostezo Llibres)  Intervencions  Presenta: Paco Inclán (editor del llibre) —Dominic Keown (editor de l’antologia Vicent Andrés Estellés\, After the Clàssics) —Gemma Sanginés (Euskaltzaleok Valentzia) —Jordi Sebastià (periodista i escriptor. Alcalde de Burjassot) —Vicent Baydal (historiador-investigador)  Recital poliglota de poemes d’Estellés Presenta: Héctor Arnau (antòleg del llibre) –Català: Eduard Marco i Escamilla i Francesc Mompó (vocal de l’AELC) –Basc: Víctor Iñúrria i membres d’Euskaltzaleok Valentzia –Italià: Rafael Tomás Llopis i Josep Dionís Martínez  –Anglès: Dominic Keown L’organització està oberta a rebre més propostes de lectura poliglota d’Estellés (editor@revistabostezo.com)  No existeixen referents en la història de la literatura: Estellés euskaraz suposa la primera antologia poètica d’un autor en llengua catalana traduïda directament al basc. L’antologia recull 64 poemes en ambdues llengües del poeta Vicent Andrés Estellés. La traducció ha estat realitzada pel poeta i traductor euskaldun Gerardo Markuleta i de la selecció dels poemes s’ha encarregat el poeta i traductor valencià Héctor Arnau. La portada del llibre és de Rafael Armengol. Estellés euskaraz és també el primer llibre editat per Bostezo Llibres\, que ha comptat amb la col·laboració dels ajuntaments de Burjassot i Godella i de la Fundació Vicent Andrés Estellés.  Organitzat per Bostezo Llibres amb la col·laboració de l’Octubre CCC\, Euskaltzaleok Valentzia i l’Associació d’Escriptors en Llengua Catalana (AELC)
URL:https://octubre.cat/activitat/presentacio-del-llibre-estelles-euskaraz/
LOCATION:Terrat
CATEGORIES:Literatura
ATTACH;FMTTYPE=image/jpeg:https://octubre.cat/www/wp-content/uploads/2020/07/activitat2029.jpg
END:VEVENT
END:VCALENDAR