BEGIN:VCALENDAR
VERSION:2.0
PRODID:-//Octubre Centre de Cultura Contemporània - ECPv5.1.6//NONSGML v1.0//EN
CALSCALE:GREGORIAN
METHOD:PUBLISH
X-WR-CALNAME:Octubre Centre de Cultura Contemporània
X-ORIGINAL-URL:https://octubre.cat
X-WR-CALDESC:Events for Octubre Centre de Cultura Contemporània
BEGIN:VTIMEZONE
TZID:Europe/Andorra
BEGIN:DAYLIGHT
TZOFFSETFROM:+0100
TZOFFSETTO:+0200
TZNAME:CEST
DTSTART:20180325T010000
END:DAYLIGHT
BEGIN:STANDARD
TZOFFSETFROM:+0200
TZOFFSETTO:+0100
TZNAME:CET
DTSTART:20181028T010000
END:STANDARD
END:VTIMEZONE
BEGIN:VEVENT
DTSTART;TZID=Europe/Andorra:20180628T190000
DTEND;TZID=Europe/Andorra:20180628T190000
DTSTAMP:20260421T090510
CREATED:20200729T173053Z
LAST-MODIFIED:20200729T190858Z
UID:11235-1530212400-1530212400@octubre.cat
SUMMARY:Presentació del llibre "Entre les urpes del gat"\, de Manel Alonso
DESCRIPTION:Dijous 28 de juny a les 19.00h\, a la llibreria Fan Set.	 \n  \n  \n\n 	 Mentre repassa el seu darrer treball d’investigació\, el professor Eduard Galcerà pren un got de whisky escocès. L’endemà\, a primera hora del matí\, la filla el troba mort assegut a la seua butaca. Al despatx no hi ha cap signe de violència\, però el metge afirma que ha estat enverinat. L’assassinat d’un il·lustre veí altera la vida calmada i senzilla de Pouet\, tot el món es pregunta qui i per què l’ha mort. L’estudiant universitari Joan Claramunt intentarà respondre aquestes preguntes seguint amb atenció les pistes enganyoses que li va deixant\, al llarg de tot el relat\, l’assassí.  (3i4)
URL:https://octubre.cat/activitat/presentacio-del-llibre-entre-les-urpes-del-gat-de-manel-alonso/
LOCATION:Llibreria Fan Set
CATEGORIES:Literatura
ATTACH;FMTTYPE=image/jpeg:https://octubre.cat/www/wp-content/uploads/2020/07/activitat3075.jpg
END:VEVENT
END:VCALENDAR