BEGIN:VCALENDAR
VERSION:2.0
PRODID:-//Octubre Centre de Cultura Contemporània - ECPv5.1.6//NONSGML v1.0//EN
CALSCALE:GREGORIAN
METHOD:PUBLISH
X-WR-CALNAME:Octubre Centre de Cultura Contemporània
X-ORIGINAL-URL:https://octubre.cat
X-WR-CALDESC:Events for Octubre Centre de Cultura Contemporània
BEGIN:VTIMEZONE
TZID:Europe/Andorra
BEGIN:DAYLIGHT
TZOFFSETFROM:+0100
TZOFFSETTO:+0200
TZNAME:CEST
DTSTART:20080330T010000
END:DAYLIGHT
BEGIN:STANDARD
TZOFFSETFROM:+0200
TZOFFSETTO:+0100
TZNAME:CET
DTSTART:20081026T010000
END:STANDARD
END:VTIMEZONE
BEGIN:VEVENT
DTSTART;TZID=Europe/Andorra:20080415T193000
DTEND;TZID=Europe/Andorra:20080415T193000
DTSTAMP:20260420T233026
CREATED:20200729T181830Z
LAST-MODIFIED:20200730T035715Z
UID:12549-1208287800-1208287800@octubre.cat
SUMMARY:Presentació del llibre 'Entestat en la independència: raons de la meua militància a la CUP'\, de Francesc Ribera 'Titot'  (Amsterdam)
DESCRIPTION:Dimarts 15\, 19.30h.  Després de 21 anys de militància a l”Esquerra Independentista\, Francesc Ribera «Titot» ens explica per què s”ha decidit a creure i participar en el projecte polític de les Candidatures d”Unitat Popular (CUP). Però\, qui són aquests de la CUP? Quin és el seu espai polític? Què volen? Com pot ser que hagin aconseguit tants regidors si no els coneix ningú?  \n  \n  \n\nDesprés de 21 anys de militància a l”Esquerra Independentista\, Francesc Ribera «Titot» ens explica per què s”ha decidit a creure i participar en el projecte polític de les Candidatures d”Unitat Popular (CUP). Però\, qui són aquests de la CUP? Quin és el seu espai polític? Què volen? Com pot ser que hagin aconseguit tants regidors si no els coneix ningú? A Entestat en la independència trobareu totes les respostes d”un moviment polític sorprenent: «No hi pot haver espera que no consisteixi en el treball constant per aconseguir una societat doblement lliure\, lliure del tot\, nacionalment i socialment. I això és el que fem a la CUP\, això i res més.»
URL:https://octubre.cat/activitat/presentacio-del-llibre-entestat-en-la-independencia-raons-de-la-meua-militancia-a-la-cup-de-francesc-ribera-titot-amsterdam/
LOCATION:No definit
CATEGORIES:Literatura
ATTACH;FMTTYPE=image/jpeg:https://octubre.cat/www/wp-content/uploads/2020/07/llibres1.jpg
END:VEVENT
END:VCALENDAR