BEGIN:VCALENDAR
VERSION:2.0
PRODID:-//Octubre Centre de Cultura Contemporània - ECPv5.1.6//NONSGML v1.0//EN
CALSCALE:GREGORIAN
METHOD:PUBLISH
X-WR-CALNAME:Octubre Centre de Cultura Contemporània
X-ORIGINAL-URL:https://octubre.cat
X-WR-CALDESC:Events for Octubre Centre de Cultura Contemporània
BEGIN:VTIMEZONE
TZID:Europe/Andorra
BEGIN:DAYLIGHT
TZOFFSETFROM:+0100
TZOFFSETTO:+0200
TZNAME:CEST
DTSTART:20080330T010000
END:DAYLIGHT
BEGIN:STANDARD
TZOFFSETFROM:+0200
TZOFFSETTO:+0100
TZNAME:CET
DTSTART:20081026T010000
END:STANDARD
END:VTIMEZONE
BEGIN:VEVENT
DTSTART;TZID=Europe/Andorra:20080110T200000
DTEND;TZID=Europe/Andorra:20080110T200000
DTSTAMP:20260420T194157
CREATED:20200729T181640Z
LAST-MODIFIED:20200730T035553Z
UID:12445-1199995200-1199995200@octubre.cat
SUMMARY:Presentació del llibre 'Empremtes en la neu'
DESCRIPTION:Presentació del llibre Empremtes en la neu (Laertes\, 2007)\, de  Francesc Bononad -textos- i Isa Cogollos i Mireia Peris -fotografies-\,  amb la participació especial de Xavier Mo\, d’Amanida Peiot i del poeta Lluís Roda.
URL:https://octubre.cat/activitat/presentacio-del-llibre-empremtes-en-la-neu/
LOCATION:No definit
CATEGORIES:Literatura
ATTACH;FMTTYPE=image/jpeg:https://octubre.cat/www/wp-content/uploads/2020/07/llibres1.jpg
END:VEVENT
END:VCALENDAR