BEGIN:VCALENDAR
VERSION:2.0
PRODID:-//Octubre Centre de Cultura Contemporània - ECPv5.1.6//NONSGML v1.0//EN
CALSCALE:GREGORIAN
METHOD:PUBLISH
X-WR-CALNAME:Octubre Centre de Cultura Contemporània
X-ORIGINAL-URL:https://octubre.cat
X-WR-CALDESC:Events for Octubre Centre de Cultura Contemporània
BEGIN:VTIMEZONE
TZID:Europe/Andorra
BEGIN:DAYLIGHT
TZOFFSETFROM:+0100
TZOFFSETTO:+0200
TZNAME:CEST
DTSTART:20140330T010000
END:DAYLIGHT
BEGIN:STANDARD
TZOFFSETFROM:+0200
TZOFFSETTO:+0100
TZNAME:CET
DTSTART:20141026T010000
END:STANDARD
END:VTIMEZONE
BEGIN:VEVENT
DTSTART;TZID=Europe/Andorra:20140603T190000
DTEND;TZID=Europe/Andorra:20140603T190000
DTSTAMP:20260421T062723
CREATED:20200729T170450Z
LAST-MODIFIED:20200730T041133Z
UID:9778-1401822000-1401822000@octubre.cat
SUMMARY:Presentació del llibre 'Em remou la sinceritat'\, de Mariola Nos
DESCRIPTION:Dimarts 3 de juny a les 19.00h. Presentació del poemari a la llibreria 3i4\, amb l’autora i Francesc Mompó  \n  \n  \n\n (editorial Germania)  Amb l’autora i l’escriptor Francesc Mompó  Presentació del poemari Em remou la sinceritat de Mariola Nos que forma part de la col·lecció Mil poetes i un País de l’editorial Germania. Prologat per Joan Elies Adell.
URL:https://octubre.cat/activitat/presentacio-del-llibre-em-remou-la-sinceritat-de-mariola-nos/
LOCATION:Llibreria 3i4
CATEGORIES:Literatura
ATTACH;FMTTYPE=image/jpeg:https://octubre.cat/www/wp-content/uploads/2020/07/activitat2077.jpg
END:VEVENT
END:VCALENDAR