BEGIN:VCALENDAR
VERSION:2.0
PRODID:-//Octubre Centre de Cultura Contemporània - ECPv5.1.6//NONSGML v1.0//EN
CALSCALE:GREGORIAN
METHOD:PUBLISH
X-WR-CALNAME:Octubre Centre de Cultura Contemporània
X-ORIGINAL-URL:https://octubre.cat
X-WR-CALDESC:Events for Octubre Centre de Cultura Contemporània
BEGIN:VTIMEZONE
TZID:Europe/Andorra
BEGIN:DAYLIGHT
TZOFFSETFROM:+0100
TZOFFSETTO:+0200
TZNAME:CEST
DTSTART:20190331T010000
END:DAYLIGHT
BEGIN:STANDARD
TZOFFSETFROM:+0200
TZOFFSETTO:+0100
TZNAME:CET
DTSTART:20191027T010000
END:STANDARD
END:VTIMEZONE
BEGIN:VEVENT
DTSTART;TZID=Europe/Andorra:20190605T190000
DTEND;TZID=Europe/Andorra:20190605T190000
DTSTAMP:20260421T134430
CREATED:20200729T173410Z
LAST-MODIFIED:20200729T191143Z
UID:11441-1559761200-1559761200@octubre.cat
SUMMARY:Presentació del llibre "Els voltants d'Olívia"\, de Miquel Bezares
DESCRIPTION:Dimecres 5 de juny a les 19.00h. Amb l’autor acompanyat per Pau Sif.	 \n  \n  \n\n 	 Amb l’autor acompanyat per Pau Sif. Il·lustracions de Pep Dengra.  (Adia Edicions)
URL:https://octubre.cat/activitat/presentacio-del-llibre-els-voltants-dolivia-de-miquel-bezares/
LOCATION:Llibreria Fan Set
CATEGORIES:Literatura
ATTACH;FMTTYPE=image/jpeg:https://octubre.cat/www/wp-content/uploads/2020/07/activitat3286.jpg
END:VEVENT
END:VCALENDAR