BEGIN:VCALENDAR
VERSION:2.0
PRODID:-//Octubre Centre de Cultura Contemporània - ECPv5.1.6//NONSGML v1.0//EN
CALSCALE:GREGORIAN
METHOD:PUBLISH
X-WR-CALNAME:Octubre Centre de Cultura Contemporània
X-ORIGINAL-URL:https://octubre.cat
X-WR-CALDESC:Events for Octubre Centre de Cultura Contemporània
BEGIN:VTIMEZONE
TZID:Europe/Andorra
BEGIN:DAYLIGHT
TZOFFSETFROM:+0100
TZOFFSETTO:+0200
TZNAME:CEST
DTSTART:20250330T010000
END:DAYLIGHT
BEGIN:STANDARD
TZOFFSETFROM:+0200
TZOFFSETTO:+0100
TZNAME:CET
DTSTART:20251026T010000
END:STANDARD
END:VTIMEZONE
BEGIN:VEVENT
DTSTART;TZID=Europe/Andorra:20250625T180000
DTEND;TZID=Europe/Andorra:20250625T180000
DTSTAMP:20260420T172104
CREATED:20250610T144134Z
LAST-MODIFIED:20250610T144134Z
UID:22905-1750874400-1750874400@octubre.cat
SUMMARY:Presentació del llibre Els segrests de la pedagogia\, de Francesc Morató
DESCRIPTION:Francesc Morató\, filòsof i docent amb més de quatre dècades d’experiència en l’ensenyament mitjà i universitari \, ofereix en aquesta obra una anàlisi lúcida i valenta sobre la degradació del sistema educatiu espanyol des de finals del segle passat\, amb l’entrada en vigor de la LOGSE i les seues successives reformes legislatives. El llibre\, fonamentalment centrat en l’educació secundària\, desvetlla les “mistificacions de la pedagogia actual”. \n  \n \nPresentació organitzada per Acicom
URL:https://octubre.cat/activitat/presentacio-del-llibre-els-segrests-de-la-pedagogia-de-francesc-morato/
LOCATION:Àtic
CATEGORIES:Conferències i congressos
ATTACH;FMTTYPE=image/jpeg:https://octubre.cat/www/wp-content/uploads/2025/06/francesc-morato.jpg
END:VEVENT
END:VCALENDAR