BEGIN:VCALENDAR
VERSION:2.0
PRODID:-//Octubre Centre de Cultura Contemporània - ECPv5.1.6//NONSGML v1.0//EN
CALSCALE:GREGORIAN
METHOD:PUBLISH
X-WR-CALNAME:Octubre Centre de Cultura Contemporània
X-ORIGINAL-URL:https://octubre.cat
X-WR-CALDESC:Events for Octubre Centre de Cultura Contemporània
BEGIN:VTIMEZONE
TZID:Europe/Andorra
BEGIN:DAYLIGHT
TZOFFSETFROM:+0100
TZOFFSETTO:+0200
TZNAME:CEST
DTSTART:20160327T010000
END:DAYLIGHT
BEGIN:STANDARD
TZOFFSETFROM:+0200
TZOFFSETTO:+0100
TZNAME:CET
DTSTART:20161030T010000
END:STANDARD
END:VTIMEZONE
BEGIN:VEVENT
DTSTART;TZID=Europe/Andorra:20161115T190000
DTEND;TZID=Europe/Andorra:20161115T190000
DTSTAMP:20260420T190517
CREATED:20200729T172148Z
LAST-MODIFIED:20200729T185636Z
UID:10868-1479236400-1479236400@octubre.cat
SUMMARY:Presentació del llibre 'Els noms dels éssers naturals. Recerques etnobiològiques a la Vall d’Albaida'
DESCRIPTION:Dimarts 15 de novembre a les 19.00h. Amb Josep E. Oltra\, J. Daniel Durà i Antoni Espí. Organitzat per la Secció d’Ensenyament d’ACPV.  \n  \n  \n\n Publicat per l’Institut d’Estudis de la Vall d’Albaida (IEVA).  Amb dos dels autors\, Josep E. Oltra i J. Daniel Durà\, presentats per Antoni Espí.  En un moment en el qual cada vegada queda menys gent immersa en el món rural tradicional\, els reculls sobre els sabers populars tenen el valor de deixar constància escrita d’un patrimoni cultural que\, actualment\, es troba en greu perill de desaparició. En el cas concret de la saviesa popular relativa als éssers naturals\, ara com ara bona part del corpus de noms i de tradicions sorgides com a resultat del contacte de l’ésser humà amb la natura que l’envolta\, de l’afany pregon per conéixer-la i entendre-la\, s’ha abandonat fins al punt d’arribar a una situació veritablement crítica.  Amb 1.400 noms populars i 800 variants lingüístiques recollides de quasi 700 espècies\, fruit de la informació obtinguda de les 154 persones entrevistades arreu de tots els pobles de la Vall d’Albaida\, aquest llibre ofereix un estudi exhaustiu i rigorós de la nomenclatura popular dels éssers naturals. A més a més\, hi incorpora 360 fotografies que ajuden a la identificació de moltes de les espècies\, així com tot l’univers cultural que s’ha generat en forma de topònims\, locucions\, dites\, endevinalles\, travallengües\, jocs infantils\, cançons\, rondalles\, succeïts i dades etnogràfiques.  Ens trobem\, doncs\, davant d’un treball fet amb un tractament científic acurat però sense perdre mai l’aspecte divulgador. Tot plegat\, un llibre que dóna a conéixer una cultura etnobiològica que\, al llarg dels segles\, ha estat tan present en la vida quotidiana dels pobladors de la comarca de la Vall d’Albaida.  (Aquest llibre és el resultat del projecte premiat en el X Premi d’Investigació de La Vall d’Albaida convocat per l’IEVA l’any 2014\, obra de Josep E. Oltra\, J. Daniel Durà i Antoni Conca).  — Acte organitzat per la Secció d’Ensenyament d’Acció Cultural del País Valencià.
URL:https://octubre.cat/activitat/presentacio-del-llibre-els-noms-dels-essers-naturals-recerques-etnobiologiques-a-la-vall-dalbaida/
LOCATION:Sala d’actes
CATEGORIES:Literatura
ATTACH;FMTTYPE=image/jpeg:https://octubre.cat/www/wp-content/uploads/2020/07/activitat2692.jpg
END:VEVENT
END:VCALENDAR