BEGIN:VCALENDAR
VERSION:2.0
PRODID:-//Octubre Centre de Cultura Contemporània - ECPv5.1.6//NONSGML v1.0//EN
CALSCALE:GREGORIAN
METHOD:PUBLISH
X-WR-CALNAME:Octubre Centre de Cultura Contemporània
X-ORIGINAL-URL:https://octubre.cat
X-WR-CALDESC:Events for Octubre Centre de Cultura Contemporània
BEGIN:VTIMEZONE
TZID:Europe/Andorra
BEGIN:DAYLIGHT
TZOFFSETFROM:+0100
TZOFFSETTO:+0200
TZNAME:CEST
DTSTART:20250330T010000
END:DAYLIGHT
BEGIN:STANDARD
TZOFFSETFROM:+0200
TZOFFSETTO:+0100
TZNAME:CET
DTSTART:20251026T010000
END:STANDARD
END:VTIMEZONE
BEGIN:VEVENT
DTSTART;TZID=Europe/Andorra:20250702T190000
DTEND;TZID=Europe/Andorra:20250702T190000
DTSTAMP:20260420T160401
CREATED:20250628T052339Z
LAST-MODIFIED:20260130T095547Z
UID:23077-1751482800-1751482800@octubre.cat
SUMMARY:Presentació del llibre Els morts de Mazón\, d’Esperança Camps
DESCRIPTION:Amb l’autora acompanyada per Vicent Partal (director de VilaWeb) i per Toñi Garcia (familiar de dues víctimes mortals i una de les persones entrevistades en el llibre). \nLa gota freda d’octubre del 2024 va deixar 228 víctimes i una gran quantitat d’aigua i fang\, però també va provocar una allau de desinformació institucional que encara avui embruta la veritat. En situacions tan greus com aquesta\, el periodisme esdevé essencial.\nEn aquest llibre\, Esperança Camps ha sabut explicar la realitat del que va passar aquell dia “evitant les campanyes de desinformació i els titulars sensacionalistes” i ha triat la proximitat amb les víctimes\, l’escolta pacient i una mirada humana per explicar amb pulcritud i fidelitat als fets\, la història d’una negligència política impossible de tapar. \n  \n \n(Vilaweb) \n  \nAmb la col·laboració de:
URL:https://octubre.cat/activitat/presentacio-del-llibre-els-morts-de-mazon-desperanca-camps/
LOCATION:Llibreria Fan Set
CATEGORIES:Conferències i congressos,Literatura
ATTACH;FMTTYPE=image/jpeg:https://octubre.cat/www/wp-content/uploads/2025/06/EsperancaCamps-M25-0143CRzm_FotoPRATSiCAMPS.jpg
END:VEVENT
END:VCALENDAR