BEGIN:VCALENDAR
VERSION:2.0
PRODID:-//Octubre Centre de Cultura Contemporània - ECPv5.1.6//NONSGML v1.0//EN
CALSCALE:GREGORIAN
METHOD:PUBLISH
X-WR-CALNAME:Octubre Centre de Cultura Contemporània
X-ORIGINAL-URL:https://octubre.cat
X-WR-CALDESC:Events for Octubre Centre de Cultura Contemporània
BEGIN:VTIMEZONE
TZID:Europe/Andorra
BEGIN:DAYLIGHT
TZOFFSETFROM:+0100
TZOFFSETTO:+0200
TZNAME:CEST
DTSTART:20190331T010000
END:DAYLIGHT
BEGIN:STANDARD
TZOFFSETFROM:+0200
TZOFFSETTO:+0100
TZNAME:CET
DTSTART:20191027T010000
END:STANDARD
END:VTIMEZONE
BEGIN:VEVENT
DTSTART;TZID=Europe/Andorra:20190222T190000
DTEND;TZID=Europe/Andorra:20190222T190000
DTSTAMP:20260421T072620
CREATED:20200729T173253Z
LAST-MODIFIED:20200729T191037Z
UID:11359-1550862000-1550862000@octubre.cat
SUMMARY:Presentació del llibre "Els dies gloriosos"\, de Josep San Abdón
DESCRIPTION:Divendres 22 de febrer a les 19.00h. Amb l’autor acompanyat per Joan Gregori.	 \n  \n  \n\n 	 Amb l’autor acompanyat per Joan Gregori.  Amb el nom d’Els dies gloriosos\, l’any 2001\, Josep San Abdón va encetar una col·laboració al setmanari La Veu de Benicarló. Aquesta secció ha estat un dietari inconstant on ha anat escrivint comentaris sobre el que l’actualitat\, especialment la de caràcter cultural\, li ha anat suggerint. Aquest llibre vol recuperar\, de la vida efímera de la premsa setmanal\, algunes de les notes escrites al llarg d’aquests anys. El propòsit d’aquesta obra és continuar el diàleg amb els antics i nous lectors respecte a aquells temes sobre els quals sempre li ha agradat reflexionar —la literatura\, el cine\, el teatre o la música—\, sense deixar de banda altres qüestions que han sabut despertar la seua curiositat\, ja que tot el que és humà no el deixa indiferent.  (Onada)
URL:https://octubre.cat/activitat/presentacio-del-llibre-els-dies-gloriosos-de-josep-san-abdon/
LOCATION:Llibreria Fan Set
CATEGORIES:Literatura
ATTACH;FMTTYPE=image/jpeg:https://octubre.cat/www/wp-content/uploads/2020/07/activitat3204.jpg
END:VEVENT
END:VCALENDAR