BEGIN:VCALENDAR
VERSION:2.0
PRODID:-//Octubre Centre de Cultura Contemporània - ECPv5.1.6//NONSGML v1.0//EN
CALSCALE:GREGORIAN
METHOD:PUBLISH
X-WR-CALNAME:Octubre Centre de Cultura Contemporània
X-ORIGINAL-URL:https://octubre.cat
X-WR-CALDESC:Events for Octubre Centre de Cultura Contemporània
BEGIN:VTIMEZONE
TZID:Europe/Andorra
BEGIN:DAYLIGHT
TZOFFSETFROM:+0100
TZOFFSETTO:+0200
TZNAME:CEST
DTSTART:20240331T010000
END:DAYLIGHT
BEGIN:STANDARD
TZOFFSETFROM:+0200
TZOFFSETTO:+0100
TZNAME:CET
DTSTART:20241027T010000
END:STANDARD
END:VTIMEZONE
BEGIN:VEVENT
DTSTART;TZID=Europe/Andorra:20240403T190000
DTEND;TZID=Europe/Andorra:20240403T190000
DTSTAMP:20260420T154005
CREATED:20240225T173302Z
LAST-MODIFIED:20250710T164820Z
UID:21010-1712170800-1712170800@octubre.cat
SUMMARY:Presentació del llibre Els carrers de la ciutat de València\, de Rafel Sena
DESCRIPTION:3 volums\, 1500 pàgines.\nAmb l’autor acompanyat per Joan Olmos\, professor d’urbanisme de la UPV. \n“Estic enamorat de València”\, insisteix a dir Sena quan ja està a punt de complir 84 anys. Els tres volums que ha confegit\, en què ha esmerçat un terç de la seua vida\, són la carta d’amor etern al cap i casal. De llibres\, n’ha escrits més\, però cap com aquest. Ningú més ha compilat la informació vastíssima que ell\, ara\, posa al servei de València\, la seua estimada València\, i de tots els seus veïns i veïnes.” [Víctor Maceda a El Temps] \n  \n \n(Llibres de l’Índex)
URL:https://octubre.cat/activitat/presentacio-del-llibre-els-carrers-de-la-ciutat-de-valencia-de-rafel-sena/
LOCATION:Llibreria Fan Set
CATEGORIES:Literatura
ATTACH;FMTTYPE=image/jpeg:https://octubre.cat/www/wp-content/uploads/2024/02/rafa-sena.jpeg
END:VEVENT
END:VCALENDAR