BEGIN:VCALENDAR
VERSION:2.0
PRODID:-//Octubre Centre de Cultura Contemporània - ECPv5.1.6//NONSGML v1.0//EN
CALSCALE:GREGORIAN
METHOD:PUBLISH
X-WR-CALNAME:Octubre Centre de Cultura Contemporània
X-ORIGINAL-URL:https://octubre.cat
X-WR-CALDESC:Events for Octubre Centre de Cultura Contemporània
BEGIN:VTIMEZONE
TZID:Europe/Andorra
BEGIN:DAYLIGHT
TZOFFSETFROM:+0100
TZOFFSETTO:+0200
TZNAME:CEST
DTSTART:20070325T010000
END:DAYLIGHT
BEGIN:STANDARD
TZOFFSETFROM:+0200
TZOFFSETTO:+0100
TZNAME:CET
DTSTART:20071028T010000
END:STANDARD
END:VTIMEZONE
BEGIN:VEVENT
DTSTART;TZID=Europe/Andorra:20070924T193000
DTEND;TZID=Europe/Andorra:20070924T193000
DTSTAMP:20260421T014743
CREATED:20200729T172505Z
LAST-MODIFIED:20260106T193412Z
UID:11080-1190662200-1190662200@octubre.cat
SUMMARY:Presentació del llibre Elogi de la transgressió Identitat nacional i desraó d'estat\, de Quim Gibert i Ramon Camats
DESCRIPTION:Presentació del llibre Elogi de la transgressió. Identitat nacional i desraó d’estat (La Busca). \nIntroducció de l’acte a càrrec de Maria Conca\, escriptora i professora de la Universitat de València.\nAmb la participació dels coautors Quim Gibert (psicòleg) i Ramon Camats (filòsof)\, i el coeditor Àngel Velasco (filòleg i coorganitzador de les Jornades de Psicologia i Identitat Nacional) \n—\nOrganitza: Acció Cultural del País Valencià.
URL:https://octubre.cat/activitat/presentacio-del-llibre-elogi-de-la-transgressio-identitat-nacional/
LOCATION:No definit
CATEGORIES:Literatura
ATTACH;FMTTYPE=image/jpeg:https://octubre.cat/www/wp-content/uploads/2020/07/llibres1.jpg
END:VEVENT
END:VCALENDAR