BEGIN:VCALENDAR
VERSION:2.0
PRODID:-//Octubre Centre de Cultura Contemporània - ECPv5.1.6//NONSGML v1.0//EN
CALSCALE:GREGORIAN
METHOD:PUBLISH
X-WR-CALNAME:Octubre Centre de Cultura Contemporània
X-ORIGINAL-URL:https://octubre.cat
X-WR-CALDESC:Events for Octubre Centre de Cultura Contemporània
BEGIN:VTIMEZONE
TZID:Europe/Andorra
BEGIN:DAYLIGHT
TZOFFSETFROM:+0100
TZOFFSETTO:+0200
TZNAME:CEST
DTSTART:20170326T010000
END:DAYLIGHT
BEGIN:STANDARD
TZOFFSETFROM:+0200
TZOFFSETTO:+0100
TZNAME:CET
DTSTART:20171029T010000
END:STANDARD
END:VTIMEZONE
BEGIN:VEVENT
DTSTART;TZID=Europe/Andorra:20171109T190000
DTEND;TZID=Europe/Andorra:20171109T190000
DTSTAMP:20260421T093250
CREATED:20200729T190154Z
LAST-MODIFIED:20200729T190154Z
UID:13261-1510254000-1510254000@octubre.cat
SUMMARY:Presentació del llibre 'Elegia del pelegrí'\, d'Antoni Gómez
DESCRIPTION:Dijous 9 de novembre a les 19.00h. amb l’autor acompanyat per Miquel Martínez i Vicent Penya.  \n  \n  \n\n Amb l’autor acompanyat per Miquel Martínez i Vicent Penya.  Antoni Gómez (Sagunt\, 1960) ha publicat els poemaris Laura (premi Senyoriu d’Ausiàs March\, 1992)\, La rebel·lió de l’heroi (1994)\, Sarajevo (premi Marià Manent\, 1996)\, Èpica per a infants (premi Ciutat d’Elx\, 2000) i El cant de l’heretge (2002). És autor del conte infantil Què fas\, Calitolato?\, del llibre Santiago Bru i Vidal. Converses amb un intel·lectual dels anys cinquanta (2003)\, del recull de retrats periodístics Testimonis que han fet un país (2005)\, d’una recopilació de crítiques aparegudes en la premsa diària i revistes literàries\, com ara Eros és l’escriptura. La literatura com a estimulant vital (2011)\, i de les obres en prosa El camí de les merles (2009) i Maleïts entrepans (2015).  (Onada)
URL:https://octubre.cat/activitat/presentacio-del-llibre-elegia-del-pelegri-dantoni-gomez/
LOCATION:Llibreria Fan Set
CATEGORIES:Literatura
ATTACH;FMTTYPE=image/jpeg:https://octubre.cat/www/wp-content/uploads/2020/07/activitat2901.jpg
END:VEVENT
END:VCALENDAR