BEGIN:VCALENDAR
VERSION:2.0
PRODID:-//Octubre Centre de Cultura Contemporània - ECPv5.1.6//NONSGML v1.0//EN
CALSCALE:GREGORIAN
METHOD:PUBLISH
X-WR-CALNAME:Octubre Centre de Cultura Contemporània
X-ORIGINAL-URL:https://octubre.cat
X-WR-CALDESC:Events for Octubre Centre de Cultura Contemporània
BEGIN:VTIMEZONE
TZID:Europe/Andorra
BEGIN:DAYLIGHT
TZOFFSETFROM:+0100
TZOFFSETTO:+0200
TZNAME:CEST
DTSTART:20250330T010000
END:DAYLIGHT
BEGIN:STANDARD
TZOFFSETFROM:+0200
TZOFFSETTO:+0100
TZNAME:CET
DTSTART:20251026T010000
END:STANDARD
END:VTIMEZONE
BEGIN:VEVENT
DTSTART;TZID=Europe/Andorra:20251008T190000
DTEND;TZID=Europe/Andorra:20251008T190000
DTSTAMP:20260421T120600
CREATED:20250919T094455Z
LAST-MODIFIED:20260130T095748Z
UID:23644-1759950000-1759950000@octubre.cat
SUMMARY:Presentació del llibre El vol de Guillem\, de Ricard Tàpera i Helga Ambak
DESCRIPTION:Presentació a càrrec de Ricard Tàpera i de Betlem Agulló i Salvador. \nL’any 1993 l’odi ens va arrancar Guillem. Des d’aleshores\, la família\, molts col·lectius i persones han treballat per la seua memòria i el que ell defensava: la diversitat\, la llibertat\, la solidaritat\, la terra. Ara\, aquesta història torna en forma de conte per a no oblidar el passat. \nEl vol de Guillem conta la història de Guillem Agulló i Salvador per a convertir-lo en papallones de colors com a símbol de resistència\, memòria i dignitat. \n(Caliu) \n  \nAmb la col·laboració de:
URL:https://octubre.cat/activitat/presentacio-del-llibre-el-vol-de-guillem-de-ricard-tapera-i-helga-ambak/
LOCATION:Hall
CATEGORIES:Literatura
ATTACH;FMTTYPE=image/jpeg:https://octubre.cat/www/wp-content/uploads/2025/09/Sense-titol.jpg
END:VEVENT
END:VCALENDAR