BEGIN:VCALENDAR
VERSION:2.0
PRODID:-//Octubre Centre de Cultura Contemporània - ECPv5.1.6//NONSGML v1.0//EN
CALSCALE:GREGORIAN
METHOD:PUBLISH
X-WR-CALNAME:Octubre Centre de Cultura Contemporània
X-ORIGINAL-URL:https://octubre.cat
X-WR-CALDESC:Events for Octubre Centre de Cultura Contemporània
BEGIN:VTIMEZONE
TZID:Europe/Andorra
BEGIN:DAYLIGHT
TZOFFSETFROM:+0100
TZOFFSETTO:+0200
TZNAME:CEST
DTSTART:20130331T010000
END:DAYLIGHT
BEGIN:STANDARD
TZOFFSETFROM:+0200
TZOFFSETTO:+0100
TZNAME:CET
DTSTART:20131027T010000
END:STANDARD
END:VTIMEZONE
BEGIN:VEVENT
DTSTART;TZID=Europe/Andorra:20131029T190000
DTEND;TZID=Europe/Andorra:20131029T190000
DTSTAMP:20260421T090627
CREATED:20200729T170203Z
LAST-MODIFIED:20200729T184225Z
UID:9616-1383073200-1383073200@octubre.cat
SUMMARY:Presentació del llibre 'El tramvia groc'\, de Joan F. Mira
DESCRIPTION:Dimarts 29 d’octubre a les 19.00h\, a càrrec de Ramon Lapiedra  \n  \n  \n\n (Edicions Proa)  Presentat per Ramon Lapiedra\, catedràtic de Física Teòrica i exrector de la Universitat de València  L’escriptor Joan F. Mira replica la sentència del filòsof René Descartes\, cogito ergo sum\, amb un «recordo; per tant\, existeixo». El tramvia groc explora la memòria personal de l’autor\, amb els descobriments i els interrogants elementals que tothom pot compartir. En aquestes pàgines s’hi evoca la infantesa en un barri perifèric de València\, el tramvia que cus l’horta amb la ciutat\, els veïns més xocants\, les prostitutes afectuoses\, els misteris familiars sense resposta\, les llums i les ombres… Com al seu dia van fer Yourcenar\, Nabòkov o Canetti\, Joan F. Mira recupera un temps perdut\, una cultura i un univers on es coven les passions més fondes\, que perviuran en l’adult.
URL:https://octubre.cat/activitat/presentacio-del-llibre-el-tramvia-groc-de-joan-f-mira/
LOCATION:Sala d’actes
CATEGORIES:Literatura
ATTACH;FMTTYPE=image/jpeg:https://octubre.cat/www/wp-content/uploads/2020/07/activitat1900.jpg
END:VEVENT
END:VCALENDAR