BEGIN:VCALENDAR
VERSION:2.0
PRODID:-//Octubre Centre de Cultura Contemporània - ECPv5.1.6//NONSGML v1.0//EN
CALSCALE:GREGORIAN
METHOD:PUBLISH
X-WR-CALNAME:Octubre Centre de Cultura Contemporània
X-ORIGINAL-URL:https://octubre.cat
X-WR-CALDESC:Events for Octubre Centre de Cultura Contemporània
BEGIN:VTIMEZONE
TZID:Europe/Andorra
BEGIN:DAYLIGHT
TZOFFSETFROM:+0100
TZOFFSETTO:+0200
TZNAME:CEST
DTSTART:20150329T010000
END:DAYLIGHT
BEGIN:STANDARD
TZOFFSETFROM:+0200
TZOFFSETTO:+0100
TZNAME:CET
DTSTART:20151025T010000
END:STANDARD
END:VTIMEZONE
BEGIN:VEVENT
DTSTART;TZID=Europe/Andorra:20150401T190000
DTEND;TZID=Europe/Andorra:20150401T190000
DTSTAMP:20260421T235014
CREATED:20200729T171002Z
LAST-MODIFIED:20200730T041417Z
UID:10116-1427914800-1427914800@octubre.cat
SUMMARY:Presentació del llibre 'El retorn de l'hongarès'\, d'Anna Moner
DESCRIPTION:Dimecres 1 d’abril a les 19.00h. Premi de narrativa Alfons el Magnànim. A càrrec de Francesc Calafat.  \n  \n  \n\n (Bromera). Premi de narrativa Alfons el Magnànim.  La presentació anirà a càrrec de Francesc Calafat.  Al maig del 1897\, un cadàver esquarterat apareix al Bois de Boulogne de París. És així com es desencadena la investigació d’uns esfereïdors assassinats en sèrie que marcarà la carrera de l’inspector en cap de la Policia de Seguretat Olivier Béziers i del prestigiós forense Auguste Locard.    Més de cent anys després\, arriba a l’Institut Medicolegal un taüt de grans dimensions\, descobert durant la remodelació del cementeri del Père-Lachaise. Sara Bongard\, una jove antropòloga forense\, no pot imaginar que es veurà implicada en els successos macabres que sacsejaren la societat parisenca a les acaballes del segle XIX.    Anna Moner barreja sensualitat\, màgia i misteri per a bastir una novel·la d’arrels gòtiques\, guanyadora del Premi de Narrativa Alfons el Magnànim. Amb interessants aspectes de la història de la ciència i de l’art en el rerefons\, alternant els anys finals del segle xix amb l’actualitat\, aquest colpidor thriller endinsa el lector en una fosca investigació criminal.
URL:https://octubre.cat/activitat/presentacio-del-llibre-el-retorn-de-lhongares-danna-moner/
LOCATION:Llibreria 3i4
CATEGORIES:Literatura
ATTACH;FMTTYPE=image/jpeg:https://octubre.cat/www/wp-content/uploads/2020/07/activitat2295.jpg
END:VEVENT
END:VCALENDAR