BEGIN:VCALENDAR
VERSION:2.0
PRODID:-//Octubre Centre de Cultura Contemporània - ECPv5.1.6//NONSGML v1.0//EN
CALSCALE:GREGORIAN
METHOD:PUBLISH
X-WR-CALNAME:Octubre Centre de Cultura Contemporània
X-ORIGINAL-URL:https://octubre.cat
X-WR-CALDESC:Events for Octubre Centre de Cultura Contemporània
BEGIN:VTIMEZONE
TZID:Europe/Andorra
BEGIN:DAYLIGHT
TZOFFSETFROM:+0100
TZOFFSETTO:+0200
TZNAME:CEST
DTSTART:20190331T010000
END:DAYLIGHT
BEGIN:STANDARD
TZOFFSETFROM:+0200
TZOFFSETTO:+0100
TZNAME:CET
DTSTART:20191027T010000
END:STANDARD
END:VTIMEZONE
BEGIN:VEVENT
DTSTART;TZID=Europe/Andorra:20190529T193000
DTEND;TZID=Europe/Andorra:20190529T193000
DTSTAMP:20260421T120417
CREATED:20200729T173409Z
LAST-MODIFIED:20200729T191141Z
UID:11439-1559158200-1559158200@octubre.cat
SUMMARY:Presentació del llibre "El repte de compartir el poder"\, de Josep Maria Reniu
DESCRIPTION:Dimecres 29 de maig a les 19.30h. Amb l’autor (professor de la Universitat de Barcelona)\, Reis Gallego (secretària de l’ACV Tirant lo Blanc) i Elies Seguí (director acadèmic de la Fundació Nexe).	 \n  \n  \n\n 	 Amb l’autor (professor de la Universitat de Barcelona)\, Reis Gallego (secretària de l’ACV Tirant lo Blanc) i Elies Seguí (director acadèmic de la Fundació Nexe).  El pròxim dimecres 29 de maig la Fundació Nexe i l’ACV Tirant lo Blanc presenten l’última de les seues publicacions\, El repte de compartir el poder\, obra del politòleg català Josep Maria Reniu\, especialista en les negociacions dels governs de coalició. El llibre serveix per a encetar una nova línia de publicacions de la Fundació Nexe\, anomenada Praxis\, que pretén fer aportacions teòriques que es puguen traduir a la pràctica en la nostra societat actual.
URL:https://octubre.cat/activitat/presentacio-del-llibre-el-repte-de-compartir-el-poder-de-josep-maria-reniu/
LOCATION:Terrat
CATEGORIES:Literatura
ATTACH;FMTTYPE=image/jpeg:https://octubre.cat/www/wp-content/uploads/2020/07/activitat3283.jpg
END:VEVENT
END:VCALENDAR