BEGIN:VCALENDAR
VERSION:2.0
PRODID:-//Octubre Centre de Cultura Contemporània - ECPv5.1.6//NONSGML v1.0//EN
CALSCALE:GREGORIAN
METHOD:PUBLISH
X-WR-CALNAME:Octubre Centre de Cultura Contemporània
X-ORIGINAL-URL:https://octubre.cat
X-WR-CALDESC:Events for Octubre Centre de Cultura Contemporània
BEGIN:VTIMEZONE
TZID:Europe/Andorra
BEGIN:DAYLIGHT
TZOFFSETFROM:+0100
TZOFFSETTO:+0200
TZNAME:CEST
DTSTART:20150329T010000
END:DAYLIGHT
BEGIN:STANDARD
TZOFFSETFROM:+0200
TZOFFSETTO:+0100
TZNAME:CET
DTSTART:20151025T010000
END:STANDARD
END:VTIMEZONE
BEGIN:VEVENT
DTSTART;TZID=Europe/Andorra:20150225T190000
DTEND;TZID=Europe/Andorra:20150225T190000
DTSTAMP:20260421T225021
CREATED:20200729T170854Z
LAST-MODIFIED:20200730T041339Z
UID:10043-1424890800-1424890800@octubre.cat
SUMMARY:Presentació del llibre 'El plom de l'ham'\, de Joan Navarro
DESCRIPTION:Dimecres 25 de febrer a les 19.00h. A la llibreria 3i4 i a càrrec de Rubén Luzón.  \n  \n  \n\n LII Premi de poesia Ausiàs March de Gandia (Edicions Proa)  La presentació anirà a càrrec de Rubén Luzón.  Joan Navarro (Oliva\, La Safor\, 1951) es va donar a conèixer com a poeta fa exactament quaranta anys\, amb el volum Grills esmolen ganivets a trenc de por (premi Vicent Andrés Estellés 1974). Des d’aleshores\, una desena de poemaris (els últims\, fruit de la seva col·laboració amb el pintor Pere Salinas) l’han consolidat com una de les veus més distingides i més indispensables de la seva generació. El plom de l’ham aplega (en tres parts: «Quadern dispers»\, «Líquens» i «Neu i viatge») la collita depuradíssima de deu anys d’experiència de la vida i la paraula: de poesia que es diu dient el gest ocult darrere el vel del pensament.
URL:https://octubre.cat/activitat/presentacio-del-llibre-el-plom-de-lham-de-joan-navarro/
LOCATION:Llibreria 3i4
CATEGORIES:Literatura
ATTACH;FMTTYPE=image/jpeg:https://octubre.cat/www/wp-content/uploads/2020/07/activitat2243.jpg
END:VEVENT
END:VCALENDAR