BEGIN:VCALENDAR
VERSION:2.0
PRODID:-//Octubre Centre de Cultura Contemporània - ECPv5.1.6//NONSGML v1.0//EN
CALSCALE:GREGORIAN
METHOD:PUBLISH
X-WR-CALNAME:Octubre Centre de Cultura Contemporània
X-ORIGINAL-URL:https://octubre.cat
X-WR-CALDESC:Events for Octubre Centre de Cultura Contemporània
BEGIN:VTIMEZONE
TZID:Europe/Andorra
BEGIN:DAYLIGHT
TZOFFSETFROM:+0100
TZOFFSETTO:+0200
TZNAME:CEST
DTSTART:20150329T010000
END:DAYLIGHT
BEGIN:STANDARD
TZOFFSETFROM:+0200
TZOFFSETTO:+0100
TZNAME:CET
DTSTART:20151025T010000
END:STANDARD
END:VTIMEZONE
BEGIN:VEVENT
DTSTART;TZID=Europe/Andorra:20151026T190000
DTEND;TZID=Europe/Andorra:20151026T190000
DTSTAMP:20260422T085351
CREATED:20200729T171328Z
LAST-MODIFIED:20200730T041541Z
UID:10333-1445886000-1445886000@octubre.cat
SUMMARY:Presentació del llibre 'El paraíso estancado'\, de Mario Gaviria i José María Perea
DESCRIPTION:Dilluns 26 d’octubre a les 19.00h. Amb els autors\, Ricard Pérez Casado i Julià Álvaro.  \n  \n  \n\n El paraíso estancado. La complementariedad hispanoalemana. (Los Libros de la Catarata).  Intervindran en la presentació:  —Ricard Pérez Casado\, doctor en història —Julià Álvaro\, secretari autonòmic de Medi Ambient —José María Perea\, periodista i autor del llibre —Mario Gaviria\, sociòleg i autor del llibre
URL:https://octubre.cat/activitat/presentacio-del-llibre-el-paraiso-estancado-de-mario-gaviria-i-jose-maria-perea/
CATEGORIES:Literatura
ATTACH;FMTTYPE=image/jpeg:https://octubre.cat/www/wp-content/uploads/2020/07/activitat2410.jpg
END:VEVENT
END:VCALENDAR