BEGIN:VCALENDAR
VERSION:2.0
PRODID:-//Octubre Centre de Cultura Contemporània - ECPv5.1.6//NONSGML v1.0//EN
CALSCALE:GREGORIAN
METHOD:PUBLISH
X-WR-CALNAME:Octubre Centre de Cultura Contemporània
X-ORIGINAL-URL:https://octubre.cat
X-WR-CALDESC:Events for Octubre Centre de Cultura Contemporània
BEGIN:VTIMEZONE
TZID:Europe/Andorra
BEGIN:DAYLIGHT
TZOFFSETFROM:+0100
TZOFFSETTO:+0200
TZNAME:CEST
DTSTART:20170326T010000
END:DAYLIGHT
BEGIN:STANDARD
TZOFFSETFROM:+0200
TZOFFSETTO:+0100
TZNAME:CET
DTSTART:20171029T010000
END:STANDARD
END:VTIMEZONE
BEGIN:VEVENT
DTSTART;TZID=Europe/Andorra:20171121T183000
DTEND;TZID=Europe/Andorra:20171121T183000
DTSTAMP:20260422T044337
CREATED:20200729T190146Z
LAST-MODIFIED:20200729T190146Z
UID:13254-1511289000-1511289000@octubre.cat
SUMMARY:Presentació del llibre 'El País Valencià que volem'
DESCRIPTION:Dimarts 21 de novembre a les 19.00h i a la llibreria Fan Set.  \n  \n  \n\n Amb la participació d’Empar Espí i Vidal (metgessa de la Salut Pública / Membre de Decidim\, Plataforma pel Dret a  Decidir del País Valencià)\, Enric Amer i Blanc (economista i ecologista) i Antoni Infante (coordinador de Decidim\, Plataforma pel Dret a Decidir del País Valencià). Modera: Núria Cadenes (llibreria Fan Set).   La Plataforma pel Dret a Decidir del País Valencià (PdaD) és un espai cívic de debat i acció. Un espai en què la ciutadania valenciana reflexiona sobre la realitat política del moment i fa projectes de país. El procés de país participatiu no pot ser sinó transversal: apel·la a tothom que vulga defensar la dignitat individual i col·lectiva i aposta per un País Valencià solidari i divers.  Amb el llibre El País Valencià que volem\, la PDaD vol precisament aportar opinions\, anàlisis i idees sobre la situació actual del País Valencià\, valorar les oportunitats de futur i descriure l’avenir desitjat i imaginat.  Sense pretendre que siga una representació de tots els aspectes de la societat valenciana\, les idees que hi apareixen són peces del trencaclosques que és el futur d’un poble; i les paraules amb què està expressat són el nou relat cap a la sobirania del País Valencià.  (Edicions del 1979)
URL:https://octubre.cat/activitat/presentacio-del-llibre-el-pais-valencia-que-volem/
LOCATION:Llibreria Fan Set
CATEGORIES:Literatura
ATTACH;FMTTYPE=image/gif:https://octubre.cat/www/wp-content/uploads/2020/07/activitat2894.gif
END:VEVENT
END:VCALENDAR