BEGIN:VCALENDAR
VERSION:2.0
PRODID:-//Octubre Centre de Cultura Contemporània - ECPv5.1.6//NONSGML v1.0//EN
CALSCALE:GREGORIAN
METHOD:PUBLISH
X-WR-CALNAME:Octubre Centre de Cultura Contemporània
X-ORIGINAL-URL:https://octubre.cat
X-WR-CALDESC:Events for Octubre Centre de Cultura Contemporània
BEGIN:VTIMEZONE
TZID:Europe/Andorra
BEGIN:DAYLIGHT
TZOFFSETFROM:+0100
TZOFFSETTO:+0200
TZNAME:CEST
DTSTART:20170326T010000
END:DAYLIGHT
BEGIN:STANDARD
TZOFFSETFROM:+0200
TZOFFSETTO:+0100
TZNAME:CET
DTSTART:20171029T010000
END:STANDARD
END:VTIMEZONE
BEGIN:VEVENT
DTSTART;TZID=Europe/Andorra:20171026T190000
DTEND;TZID=Europe/Andorra:20171026T190000
DTSTAMP:20260420T235120
CREATED:20200729T190157Z
LAST-MODIFIED:20200729T190157Z
UID:13264-1509044400-1509044400@octubre.cat
SUMMARY:Presentació del llibre 'El món de l’home'\, de Charlotte Perkins Gilman
DESCRIPTION:Dijous 26 d’octubre a les 19.00h. Presentació a càrrec de Carme Manuel i Empar Barranco.  \n  \n  \n\n L’escriptora i activista feminista Charlotte Perkins Gilman (1869-1935) ens arriba ara en la primera traducció al català de la denúncia de les arrels del masclisme i l’al·legat a favor de l’emancipació de les dones que és El món de l’home o la nostra cultura androcèntrica\, publicat per Gregal i traduït per Maite Coll. Ens el presentaran Carme Manuel\, directora de la Biblioteca Javier Coy d’Estudis Nord-americans\, i Empar Barranco\, traductora i especialista en literatura nord-americana.  (Gregal)
URL:https://octubre.cat/activitat/presentacio-del-llibre-el-mon-de-lhome-de-charlotte-perkins-gilman/
LOCATION:Llibreria Fan Set
CATEGORIES:Literatura
ATTACH;FMTTYPE=image/jpeg:https://octubre.cat/www/wp-content/uploads/2020/07/activitat2904.jpg
END:VEVENT
END:VCALENDAR