BEGIN:VCALENDAR
VERSION:2.0
PRODID:-//Octubre Centre de Cultura Contemporània - ECPv5.1.6//NONSGML v1.0//EN
CALSCALE:GREGORIAN
METHOD:PUBLISH
X-WR-CALNAME:Octubre Centre de Cultura Contemporània
X-ORIGINAL-URL:https://octubre.cat
X-WR-CALDESC:Events for Octubre Centre de Cultura Contemporània
BEGIN:VTIMEZONE
TZID:Europe/Andorra
BEGIN:DAYLIGHT
TZOFFSETFROM:+0100
TZOFFSETTO:+0200
TZNAME:CEST
DTSTART:20130331T010000
END:DAYLIGHT
BEGIN:STANDARD
TZOFFSETFROM:+0200
TZOFFSETTO:+0100
TZNAME:CET
DTSTART:20131027T010000
END:STANDARD
END:VTIMEZONE
BEGIN:VEVENT
DTSTART;TZID=Europe/Andorra:20130620T190000
DTEND;TZID=Europe/Andorra:20130620T190000
DTSTAMP:20260424T014153
CREATED:20200729T170114Z
LAST-MODIFIED:20200729T184147Z
UID:9571-1371754800-1371754800@octubre.cat
SUMMARY:Presentació del llibre 'El fracassat'\, de Martí Domínguez
DESCRIPTION:Dijous 20 de juny a les 19.00h. Presentació del llibre ‘El fracassat’\, de Martí Domínguez  \n  \n  \n\n Presentació del llibre El fracassat (Proa)\, de Martí Domínguez\, a càrrec de Vicent Alonso i Carme Gregori.  Novel·la calidoscòpica\, d’inspiració biogràfica\, sobre la soledat de l’artista innovador\, obstinat en el seu propi camí.
URL:https://octubre.cat/activitat/presentacio-del-llibre-el-fracassat-de-marti-dominguez/
LOCATION:Llibreria 3i4
CATEGORIES:Literatura
ATTACH;FMTTYPE=image/jpeg:https://octubre.cat/www/wp-content/uploads/2020/07/activitat1828.jpg
END:VEVENT
END:VCALENDAR