BEGIN:VCALENDAR
VERSION:2.0
PRODID:-//Octubre Centre de Cultura Contemporània - ECPv5.1.6//NONSGML v1.0//EN
CALSCALE:GREGORIAN
METHOD:PUBLISH
X-WR-CALNAME:Octubre Centre de Cultura Contemporània
X-ORIGINAL-URL:https://octubre.cat
X-WR-CALDESC:Events for Octubre Centre de Cultura Contemporània
BEGIN:VTIMEZONE
TZID:Europe/Andorra
BEGIN:DAYLIGHT
TZOFFSETFROM:+0100
TZOFFSETTO:+0200
TZNAME:CEST
DTSTART:20170326T010000
END:DAYLIGHT
BEGIN:STANDARD
TZOFFSETFROM:+0200
TZOFFSETTO:+0100
TZNAME:CET
DTSTART:20171029T010000
END:STANDARD
END:VTIMEZONE
BEGIN:VEVENT
DTSTART;TZID=Europe/Andorra:20170208T190000
DTEND;TZID=Europe/Andorra:20170208T190000
DTSTAMP:20260421T034233
CREATED:20200729T172336Z
LAST-MODIFIED:20200729T185726Z
UID:10981-1486580400-1486580400@octubre.cat
SUMMARY:Presentació del llibre 'El dia de demà'\, de Teresa Broseta
DESCRIPTION:Dimecres 8 de febrer a les 19.00h i a la llibreria Fan Set.  \n  \n  \n\n Premi València Alfons el Magnànim de Narrativa 2016 (Edicions Bromera)  A la València actual\, marcada per la crisi econòmica i les seues conseqüències en tots els àmbits\, s’entrecreuen les vides de tres personatges units per la fragilitat i les ombres del passat. Sara\, a la vora dels cinquanta anys\, contempla dolguda el fracàs del seu matrimoni amb Miquel\, un empresari addicte a la cocaïna\, alhora que recupera la memòria d’Andreu\, a qui va estimar profundament quan el futur encara semblava per construir. Però mai podria imaginar-se que\, per una casualitat\, ­Miquel i Andreu entraran en contacte i es precipitaran els esdeveniments que devastaran les seues vides.    Teresa Broseta ordeix amb El dia de demà una novel·la que retrata la societat contemporània –marcada per la crisi\, la soledat\, les ­drogues i l’especulació– i\, al mateix temps\, construeix un retrat viu\, colpidor i durador de la ciutat\, que es converteix en el quart protagonista d’aquesta història distingida amb el ­Premi València ­Alfons el Magnànim de Narrativa.  (foto: Pepe Bellés)
URL:https://octubre.cat/activitat/presentacio-del-llibre-el-dia-de-dema-de-teresa-broseta/
LOCATION:Llibreria Fan Set
CATEGORIES:Literatura
ATTACH;FMTTYPE=image/jpeg:https://octubre.cat/www/wp-content/uploads/2020/07/activitat2753.jpg
END:VEVENT
END:VCALENDAR