BEGIN:VCALENDAR
VERSION:2.0
PRODID:-//Octubre Centre de Cultura Contemporània - ECPv5.1.6//NONSGML v1.0//EN
CALSCALE:GREGORIAN
METHOD:PUBLISH
X-WR-CALNAME:Octubre Centre de Cultura Contemporània
X-ORIGINAL-URL:https://octubre.cat
X-WR-CALDESC:Events for Octubre Centre de Cultura Contemporània
BEGIN:VTIMEZONE
TZID:Europe/Andorra
BEGIN:DAYLIGHT
TZOFFSETFROM:+0100
TZOFFSETTO:+0200
TZNAME:CEST
DTSTART:20160327T010000
END:DAYLIGHT
BEGIN:STANDARD
TZOFFSETFROM:+0200
TZOFFSETTO:+0100
TZNAME:CET
DTSTART:20161030T010000
END:STANDARD
END:VTIMEZONE
BEGIN:VEVENT
DTSTART;TZID=Europe/Andorra:20161003T190000
DTEND;TZID=Europe/Andorra:20161003T190000
DTSTAMP:20260421T072441
CREATED:20200729T172027Z
LAST-MODIFIED:20200729T185559Z
UID:10782-1475521200-1475521200@octubre.cat
SUMMARY:Presentació del llibre 'El despertar valencià'\, de Víctor Maceda
DESCRIPTION:Dilluns 3 d’octubre a les 19.00h. Amb la participació de Ximo Puig (President de la Generalitat Valenciana)\, Mónica Oltra (Vicepresidenta de la Generalitat Valenciana) i Enric Juliana (director adjunt de La Vanguardia i autor del pròleg). Benvinguda a càrrec de Gemma Pasqual (Vicepresidenta d’Acció Cultural del País Valencià).  \n  \n  \n\n El despertar valencià. La caiguda d’un règim i la irrupció del canvi. Amb pròleg d’Enric Juliana (Pòrtic).  La presentació anirà a càrrec de Ximo Puig (President de la Generalitat Valenciana)\, Mónica Oltra (Vicepresidenta de la Generalitat Valenciana) i Enric Juliana (Director adjunt de La Vanguardia). Benvinguda a càrrec de Gemma Pasqual (Vicepresident d’Acció Cultural del País Valencià).  Del 1995 al 2015\, el País Valencià va ser el principal bastió de la dreta espanyola. La Generalitat\, les tres diputacions i les tres capitals de província van tenir\, ininterrompudament\, governs del PP. Era un poder omnímode\, consolidat elecció rere elecció\, que s’alimentava d’un model econòmic efectista\, una xarxa clientelar molt extensa i una propaganda a gran escala sufragada amb diners públics.  La fallida d’aquell règim de cartró-pedra\, farcit de trames de corrupció\, ha donat pas a una etapa nova\, en què l’epítet “a la valenciana” ha passat de designar la mala praxi a significar una altra manera de fer les coses\, i en què el valencianisme progressista ha assolit una força inusitada. El magnífic relat del periodista Víctor Maceda\, cenyit als fets\, té l’alè d’una història èpica i sinistra alhora.  Víctor Maceda (València\, 1976) és periodista del setmanari El Temps. Especialitzat en informació política\, ha col·laborat regularment als diaris digitals L’Informatiu i La Veu del País Valencià\, i de manera ocasional a les edicions valencianes d’El País i eldiario.es\, a les revistes L’Espill\, Caràcters i Sàpiens\, a COM Ràdio\, Info TV i Levante TV. Va participar en el llibre col·lectiu País Valencià\, segle XXI. Noves reflexions crítiques (2009)\, conjuntament amb Ximo Puig\, Manuel Alcaraz\, J. J. Pérez Benlloch\, Rosa Serrano i Xavier Aliaga\, entre d’altres.
URL:https://octubre.cat/activitat/presentacio-del-llibre-el-despertar-valencia-de-victor-maceda/
LOCATION:Sala d’actes
CATEGORIES:Literatura
ATTACH;FMTTYPE=image/jpeg:https://octubre.cat/www/wp-content/uploads/2020/07/activitat2643.jpg
END:VEVENT
END:VCALENDAR