BEGIN:VCALENDAR
VERSION:2.0
PRODID:-//Octubre Centre de Cultura Contemporània - ECPv5.1.6//NONSGML v1.0//EN
CALSCALE:GREGORIAN
METHOD:PUBLISH
X-WR-CALNAME:Octubre Centre de Cultura Contemporània
X-ORIGINAL-URL:https://octubre.cat
X-WR-CALDESC:Events for Octubre Centre de Cultura Contemporània
BEGIN:VTIMEZONE
TZID:Europe/Andorra
BEGIN:DAYLIGHT
TZOFFSETFROM:+0100
TZOFFSETTO:+0200
TZNAME:CEST
DTSTART:20190331T010000
END:DAYLIGHT
BEGIN:STANDARD
TZOFFSETFROM:+0200
TZOFFSETTO:+0100
TZNAME:CET
DTSTART:20191027T010000
END:STANDARD
END:VTIMEZONE
BEGIN:VEVENT
DTSTART;TZID=Europe/Andorra:20190130T190000
DTEND;TZID=Europe/Andorra:20190130T190000
DTSTAMP:20260421T090505
CREATED:20200729T173237Z
LAST-MODIFIED:20200729T191023Z
UID:11342-1548874800-1548874800@octubre.cat
SUMMARY:Presentació del llibre "El cercle màgic"\, de Joan F. Mira
DESCRIPTION:Dimecres 30 de gener a les 19.00h. Amb l’autor acompanyat per Josepa Cucó i Teresa Vicente.	 \n  \n  \n\n 	 Assaigs sobre cultures\, pobles i nacions (1973-2008). Edició de Beatriz Santamarina i Teresa Vicente (Alfons el Magnànim)  Amb Josepa Cucó (UV Sociologia i Antropologia Social) i Teresa Vicente (UV Sociologia i Antropologia Social)  Aquesta compilació és el resultat d’una meditada i consensuada selecció de textos\, redactats i publicats sota diferents formats i dins d’un marc cronològic de gran abast (des de la dècada de 1970 fins\, pràcticament\, els nostres dies). La varietat i l’extensió temporal de la compilació ens dóna idea de la prolífica producció de Mira i\, al mateix temps\, la seua dedicació pionera a l’antropologia social el situen\, ja en els anys setanta\, com una figura fundacional d’una disciplina acadèmica llavors emergent\, tant al País Valencià com a l’Estat espanyol. No debades\, la seua capacitat de mirar i escriure des d’una perspectiva antropològica ha continuat present al llarg de la seua vida\, tal com queda ben reflectit en aquest llibre. Els textos seleccionats ofereixen una anàlisi relacional d’alguns dels ítems que han marcat la seua trajectòria intel·lectual\, com ara l’evolució de les societats tradicionals o la construcció dialèctica entre cultura\, identitat i nacionalisme\, en un sentit ample i plural\, i sempre sota la seua excepcional lent antropològica.
URL:https://octubre.cat/activitat/presentacio-del-llibre-el-cercle-magic-de-joan-f-mira/
LOCATION:Sala d’actes
CATEGORIES:Literatura
ATTACH;FMTTYPE=image/jpeg:https://octubre.cat/www/wp-content/uploads/2020/07/activitat3187.jpg
END:VEVENT
END:VCALENDAR