BEGIN:VCALENDAR
VERSION:2.0
PRODID:-//Octubre Centre de Cultura Contemporània - ECPv5.1.6//NONSGML v1.0//EN
CALSCALE:GREGORIAN
METHOD:PUBLISH
X-WR-CALNAME:Octubre Centre de Cultura Contemporània
X-ORIGINAL-URL:https://octubre.cat
X-WR-CALDESC:Events for Octubre Centre de Cultura Contemporània
BEGIN:VTIMEZONE
TZID:Europe/Andorra
BEGIN:DAYLIGHT
TZOFFSETFROM:+0100
TZOFFSETTO:+0200
TZNAME:CEST
DTSTART:20180325T010000
END:DAYLIGHT
BEGIN:STANDARD
TZOFFSETFROM:+0200
TZOFFSETTO:+0100
TZNAME:CET
DTSTART:20181028T010000
END:STANDARD
END:VTIMEZONE
BEGIN:VEVENT
DTSTART;TZID=Europe/Andorra:20181026T190000
DTEND;TZID=Europe/Andorra:20181026T190000
DTSTAMP:20260423T031521
CREATED:20200729T173155Z
LAST-MODIFIED:20200729T190947Z
UID:11298-1540580400-1540580400@octubre.cat
SUMMARY:Presentació del llibre "El catalanisme davant del feixisme (1919-2018)"
DESCRIPTION:Divendres 26 d’octubre a les 19.00h. Amb Arnau Gonzàlez i Vilalta\, historiador i un dels coordinadors de l’estudi.	 \n  \n  \n\n 	 Amb Arnau Gonzàlez i Vilalta\, historiador i un dels coordinadors de l’estudi.  En l’últim segle d’història catalana\, hi ha preguntes que no s’han pogut fer\, interrogants incòmodes que hom ha preferit no plantejar. Com ara: ha existit un feixisme catalanista?  (Editorial Gregal)
URL:https://octubre.cat/activitat/presentacio-del-llibre-el-catalanisme-davant-del-feixisme-1919-2018/
LOCATION:No definit
CATEGORIES:Literatura
ATTACH;FMTTYPE=image/jpeg:https://octubre.cat/www/wp-content/uploads/2020/07/activitat3137.jpg
END:VEVENT
END:VCALENDAR