BEGIN:VCALENDAR
VERSION:2.0
PRODID:-//Octubre Centre de Cultura Contemporània - ECPv5.1.6//NONSGML v1.0//EN
CALSCALE:GREGORIAN
METHOD:PUBLISH
X-WR-CALNAME:Octubre Centre de Cultura Contemporània
X-ORIGINAL-URL:https://octubre.cat
X-WR-CALDESC:Events for Octubre Centre de Cultura Contemporània
BEGIN:VTIMEZONE
TZID:Europe/Andorra
BEGIN:DAYLIGHT
TZOFFSETFROM:+0100
TZOFFSETTO:+0200
TZNAME:CEST
DTSTART:20160327T010000
END:DAYLIGHT
BEGIN:STANDARD
TZOFFSETFROM:+0200
TZOFFSETTO:+0100
TZNAME:CET
DTSTART:20161030T010000
END:STANDARD
END:VTIMEZONE
BEGIN:VEVENT
DTSTART;TZID=Europe/Andorra:20161129T190000
DTEND;TZID=Europe/Andorra:20161129T190000
DTSTAMP:20260421T033110
CREATED:20200729T172151Z
LAST-MODIFIED:20200729T185639Z
UID:10871-1480446000-1480446000@octubre.cat
SUMMARY:Presentació del llibre 'El camí de la pesta'\, de Daniel Closa
DESCRIPTION:Dimarts 29 de novembre a les 19.00h i a la llibreria Fan Set\, en col·laboració amb l’Espai Ciència. L’autor estarà acompanyat per Daniel Porcar i Fernando Sapiña (que realitzarà un tast de bacteris).  \n  \n  \n\n (Capital Books) En col·laboració amb l’Espai Ciència. Obra guanyadora del XXIX Premi Sebastià Juan Arbó  Amb: Daniel Closa\, investigador del CSIC i autor de la novel·la Manuel Porcar\, investigador de la Universitat de València  Els assistents podran gaudir d’un tast de bacteris amanit per Fernando Sapiña\, professor de Ciències Gastronòmiques a la Universitat de València.  Un brot de pesta inesperat i resistent\, que s’ha declarat sobtadament a Boston i que s’estén com una taca d’oli per tot el món occidental\, amenaça d’acabar amb la humanitat. L’epidèmia té un origen misteriós\, qui sap si relacionat amb experiments biològics de l’antiga Unió Soviètica\, amb animals salvatges o amb radiacions\, i no es disposa d’un antibiòtic que pugui fer front a aquest bacteri letal.  Mentre els morts s’acumulen i els millors científics mundials lluiten en va contra la pandèmia\, els protagonistes desxifraran un enigmàtic manuscrit medieval que els durà pel sud de França i el nord de Catalunya en una cursa contra rellotge a la recerca d’un antídot. Els grans poders econòmics i les xarxes criminals\, però\, també ambicionen aquest tresor.  El científic Daniel Closa es revela amb aquesta novel·la com un mestre del thriller mèdic.
URL:https://octubre.cat/activitat/presentacio-del-llibre-el-cami-de-la-pesta-de-daniel-closa/
LOCATION:Llibreria Fan Set
CATEGORIES:Literatura
ATTACH;FMTTYPE=image/jpeg:https://octubre.cat/www/wp-content/uploads/2020/07/activitat2695.jpg
END:VEVENT
END:VCALENDAR