BEGIN:VCALENDAR
VERSION:2.0
PRODID:-//Octubre Centre de Cultura Contemporània - ECPv5.1.6//NONSGML v1.0//EN
CALSCALE:GREGORIAN
METHOD:PUBLISH
X-WR-CALNAME:Octubre Centre de Cultura Contemporània
X-ORIGINAL-URL:https://octubre.cat
X-WR-CALDESC:Events for Octubre Centre de Cultura Contemporània
BEGIN:VTIMEZONE
TZID:Europe/Andorra
BEGIN:DAYLIGHT
TZOFFSETFROM:+0100
TZOFFSETTO:+0200
TZNAME:CEST
DTSTART:20240331T010000
END:DAYLIGHT
BEGIN:STANDARD
TZOFFSETFROM:+0200
TZOFFSETTO:+0100
TZNAME:CET
DTSTART:20241027T010000
END:STANDARD
END:VTIMEZONE
BEGIN:VEVENT
DTSTART;TZID=Europe/Andorra:20240614T190000
DTEND;TZID=Europe/Andorra:20240614T190000
DTSTAMP:20260420T141952
CREATED:20240511T143907Z
LAST-MODIFIED:20250713T073404Z
UID:21297-1718391600-1718391600@octubre.cat
SUMMARY:Presentació del llibre Efervescència programada\, de Lourdes Toledo
DESCRIPTION:Premi de Literatura Eròtica de la Vall d’Albaida.\nAmb l’autora acompanyada per la comunicadora i escriptora Irene Rodrigo i per l’editor Marc Senabre. \nVermut literari al terrat. Tertúlia\, lectura de textos i recital de poemes d’Estellés i Papasseit. I\, en acabar\, vi i picaeta! \nL’eros és irrefrenable. No entén de gèneres\, ni d’edats\, ni d’impossibilitats. Com s’explica\, si no\, que siguem capaços de deixar-ho tot per córrer cap a l’encontre d’un cos? La vida ens desarma de tant en tant sense previ avís i ens convida a explorar els nostres límits. Ni orgull\, ni fermesa\, ni dignitat possibles\, la passió ens arravata a tots. Escrits amb senzillesa\, elegància i sentit de l’humor\, Lourdes Toledo ens sorprén amb un recull de contes que destaca per la seua capacitat de capturar l’essència del desig sense caure en el sobredimensionament\, en el menyspreu o en la banalització. \n  \n \n(Bromera)
URL:https://octubre.cat/activitat/presentacio-del-llibre-efervescencia-programada-de-lourdes-toledo/
LOCATION:Llibreria Fan Set
CATEGORIES:Literatura
ATTACH;FMTTYPE=image/jpeg:https://octubre.cat/www/wp-content/uploads/2023/11/LOURDES-TOLEDO-3849-B-FOTO.JESUS-CISCAR.JPG-scaled.jpg
END:VEVENT
END:VCALENDAR