BEGIN:VCALENDAR
VERSION:2.0
PRODID:-//Octubre Centre de Cultura Contemporània - ECPv5.1.6//NONSGML v1.0//EN
CALSCALE:GREGORIAN
METHOD:PUBLISH
X-WR-CALNAME:Octubre Centre de Cultura Contemporània
X-ORIGINAL-URL:https://octubre.cat
X-WR-CALDESC:Events for Octubre Centre de Cultura Contemporània
BEGIN:VTIMEZONE
TZID:Europe/Andorra
BEGIN:DAYLIGHT
TZOFFSETFROM:+0100
TZOFFSETTO:+0200
TZNAME:CEST
DTSTART:20190331T010000
END:DAYLIGHT
BEGIN:STANDARD
TZOFFSETFROM:+0200
TZOFFSETTO:+0100
TZNAME:CET
DTSTART:20191027T010000
END:STANDARD
END:VTIMEZONE
BEGIN:VEVENT
DTSTART;TZID=Europe/Andorra:20190327T183000
DTEND;TZID=Europe/Andorra:20190327T183000
DTSTAMP:20260421T165454
CREATED:20200729T173326Z
LAST-MODIFIED:20200729T191105Z
UID:11393-1553711400-1553711400@octubre.cat
SUMMARY:Presentació del llibre "Editando genes: recorta\, pega y colorea"\, de Lluís Montoliu
DESCRIPTION:Dimecres 27 de març a les 18.30h. Una activitat de l’Espai Ciència. Amb l’autor acompanyat per Francis J. Mojica (autor del pròleg).	 \n  \n  \n\n 	 Editando genes: recorta\, pega y colorea. Las maravillosas herramientas CRISPR  (Next Door Publishers\, 2019)  Conversaran Lluís Montoliu (Centro Nacional de Biotecnología\, CSIC\, Madrid)\, autor del llibre\, i Francis J. Mojica (Universitat d’Alacant)\, autor del pròleg\, moderats per Reis Juan (periodista).
URL:https://octubre.cat/activitat/presentacio-del-llibre-editando-genes-recorta-pega-y-colorea-de-lluis-montoliu/
LOCATION:Sala d’actes
CATEGORIES:Espai Ciència
ATTACH;FMTTYPE=image/jpeg:https://octubre.cat/www/wp-content/uploads/2020/07/activitat3238.jpg
END:VEVENT
END:VCALENDAR