BEGIN:VCALENDAR
VERSION:2.0
PRODID:-//Octubre Centre de Cultura Contemporània - ECPv5.1.6//NONSGML v1.0//EN
CALSCALE:GREGORIAN
METHOD:PUBLISH
X-WR-CALNAME:Octubre Centre de Cultura Contemporània
X-ORIGINAL-URL:https://octubre.cat
X-WR-CALDESC:Events for Octubre Centre de Cultura Contemporània
BEGIN:VTIMEZONE
TZID:Europe/Andorra
BEGIN:DAYLIGHT
TZOFFSETFROM:+0100
TZOFFSETTO:+0200
TZNAME:CEST
DTSTART:20230326T010000
END:DAYLIGHT
BEGIN:STANDARD
TZOFFSETFROM:+0200
TZOFFSETTO:+0100
TZNAME:CET
DTSTART:20231029T010000
END:STANDARD
END:VTIMEZONE
BEGIN:VEVENT
DTSTART;TZID=Europe/Andorra:20230324T190000
DTEND;TZID=Europe/Andorra:20230324T190000
DTSTAMP:20260421T145928
CREATED:20230220T114159Z
LAST-MODIFIED:20230220T114159Z
UID:19544-1679684400-1679684400@octubre.cat
SUMMARY:Presentació del llibre Dotze\, de Vicent Usó
DESCRIPTION:Presentació i col·loqui amb l’autor acompanyat per l’escriptora Núria Cadenes. \nDotze escalons separen la porta de casa del carrer. Dotze escalons que la tenen tancada al seu pis de la Vila\, jubilada abans d’hora\, impedida per l’edat i la malaltia\, sola sense ningú més que el seu nebot absent. I aterrida. Sobretot aterrida. Un crit esfereïdor al pis del costat trenca la monotonia de la vida en reclusió. La investigació de l’origen del crit la porten a enfrontar-se amb els records del passat: el germà mort\, les complicades relacions familiars o el fracàs del seu prometatge. Com a lectors assistim a una mena de confessió íntima\, on els pensaments\, les pors i els secrets més profunds se’ns mostren sense filtres. \n  \n \n(Bromera)
URL:https://octubre.cat/activitat/presentacio-del-llibre-dotze-de-vicent-uso/
LOCATION:Llibreria Fan Set
CATEGORIES:Literatura
ATTACH;FMTTYPE=image/jpeg:https://octubre.cat/www/wp-content/uploads/2023/02/vicent-uso.jpg
END:VEVENT
END:VCALENDAR