BEGIN:VCALENDAR
VERSION:2.0
PRODID:-//Octubre Centre de Cultura Contemporània - ECPv5.1.6//NONSGML v1.0//EN
CALSCALE:GREGORIAN
METHOD:PUBLISH
X-WR-CALNAME:Octubre Centre de Cultura Contemporània
X-ORIGINAL-URL:https://octubre.cat
X-WR-CALDESC:Events for Octubre Centre de Cultura Contemporània
BEGIN:VTIMEZONE
TZID:Europe/Andorra
BEGIN:DAYLIGHT
TZOFFSETFROM:+0100
TZOFFSETTO:+0200
TZNAME:CEST
DTSTART:20140330T010000
END:DAYLIGHT
BEGIN:STANDARD
TZOFFSETFROM:+0200
TZOFFSETTO:+0100
TZNAME:CET
DTSTART:20141026T010000
END:STANDARD
END:VTIMEZONE
BEGIN:VEVENT
DTSTART;TZID=Europe/Andorra:20140924T190000
DTEND;TZID=Europe/Andorra:20140924T190000
DTSTAMP:20260421T225538
CREATED:20200729T170611Z
LAST-MODIFIED:20200730T041211Z
UID:9864-1411585200-1411585200@octubre.cat
SUMMARY:Presentació del llibre 'Dins el camp d'herba'\, de Ramon Ramon
DESCRIPTION:Dimecres 24 de setembre a les 19.00h. Presentació a càrrec de Francesc Calafat  \n  \n  \n\n Dietari 2009-2012 Perifèric Edicions  La presentació anirà a càrrec de Francesc Calafat.  A Dins el camp d’herba hi ha tota mena de brosses: sensacions i pensaments\, memòries i anhels. Ara una anècdota\, ara una abstracció\, ara la família\, ara uns estranys: tot forma part d’un jo que\, esperonat per T. S. Eliot\, s’atreveix a pertorbar l’Univers. Hi apareixen llocs localíssims\, com ara Catarroja o Peníscola o Oriola\, i llocs igual de localíssims\, com ara Cambridge o Dublín. I també hi trauen el cap els llibres\, perquè els llibres s’empelten amb tot i ho empesten tot: són l’amor i són l’odi\, són la vida que més desconcerta la mort.
URL:https://octubre.cat/activitat/presentacio-del-llibre-dins-el-camp-dherba-de-ramon-ramon/
LOCATION:Llibreria 3i4
CATEGORIES:Literatura
ATTACH;FMTTYPE=image/jpeg:https://octubre.cat/www/wp-content/uploads/2020/07/activitat2128.jpg
END:VEVENT
END:VCALENDAR