BEGIN:VCALENDAR
VERSION:2.0
PRODID:-//Octubre Centre de Cultura Contemporània - ECPv5.1.6//NONSGML v1.0//EN
CALSCALE:GREGORIAN
METHOD:PUBLISH
X-WR-CALNAME:Octubre Centre de Cultura Contemporània
X-ORIGINAL-URL:https://octubre.cat
X-WR-CALDESC:Events for Octubre Centre de Cultura Contemporània
BEGIN:VTIMEZONE
TZID:Europe/Andorra
BEGIN:DAYLIGHT
TZOFFSETFROM:+0100
TZOFFSETTO:+0200
TZNAME:CEST
DTSTART:20250330T010000
END:DAYLIGHT
BEGIN:STANDARD
TZOFFSETFROM:+0200
TZOFFSETTO:+0100
TZNAME:CET
DTSTART:20251026T010000
END:STANDARD
END:VTIMEZONE
BEGIN:VEVENT
DTSTART;TZID=Europe/Andorra:20250617T190000
DTEND;TZID=Europe/Andorra:20250617T190000
DTSTAMP:20260420T231100
CREATED:20250603T103531Z
LAST-MODIFIED:20250603T103531Z
UID:22885-1750186800-1750186800@octubre.cat
SUMMARY:Presentació del llibre Dietari. Els anys viscuts a la intempèrie\, de Manel Hurtado
DESCRIPTION:28è Premi de Poesia Vila de Puçol \nAmb l’autor acompanyat per la bibliotecària Adelina Navarro.\nRecital a càrrec de Carme Borràs\, Joana Giner i Ariadna Hurtado (piano). \nTenim davant nostre un llibre que\, per mitjà d’una veu perplexa i perspicaç alhora\, travessa una època recent\, un itinerari vital que és una barreja d’inestabilitat i d’inquietud\, però també d’esperança i fins i tot de culminació\, que parteix de l’any 2008 —el fatídic any de l’inici de la crisi econòmica i financera— i que acaba en els nostres dies\, en plena actualitat. Una veu amb la qual ens podem sentir tots\, sens dubte\, reflectits i identificats. \n  \n \n(Onada)
URL:https://octubre.cat/activitat/presentacio-del-llibre-dietari-els-anys-viscuts-a-la-intemperie-de-manel-hurtado/
LOCATION:Llibreria Fan Set
CATEGORIES:Literatura
ATTACH;FMTTYPE=image/jpeg:https://octubre.cat/www/wp-content/uploads/2022/04/llibreria-fan-set.jpg
END:VEVENT
END:VCALENDAR